BEGIN:VCALENDAR
VERSION:2.0
PRODID:-//Fawn Lake Community Association - ECPv6.15.20//NONSGML v1.0//EN
CALSCALE:GREGORIAN
METHOD:PUBLISH
X-ORIGINAL-URL:https://www.fawnlake-hoa.com
X-WR-CALDESC:Events for Fawn Lake Community Association
REFRESH-INTERVAL;VALUE=DURATION:PT1H
X-Robots-Tag:noindex
X-PUBLISHED-TTL:PT1H
BEGIN:VTIMEZONE
TZID:America/New_York
BEGIN:DAYLIGHT
TZOFFSETFROM:-0500
TZOFFSETTO:-0400
TZNAME:EDT
DTSTART:20250309T070000
END:DAYLIGHT
BEGIN:STANDARD
TZOFFSETFROM:-0400
TZOFFSETTO:-0500
TZNAME:EST
DTSTART:20251102T060000
END:STANDARD
BEGIN:DAYLIGHT
TZOFFSETFROM:-0500
TZOFFSETTO:-0400
TZNAME:EDT
DTSTART:20260308T070000
END:DAYLIGHT
BEGIN:STANDARD
TZOFFSETFROM:-0400
TZOFFSETTO:-0500
TZNAME:EST
DTSTART:20261101T060000
END:STANDARD
BEGIN:DAYLIGHT
TZOFFSETFROM:-0500
TZOFFSETTO:-0400
TZNAME:EDT
DTSTART:20270314T070000
END:DAYLIGHT
BEGIN:STANDARD
TZOFFSETFROM:-0400
TZOFFSETTO:-0500
TZNAME:EST
DTSTART:20271107T060000
END:STANDARD
END:VTIMEZONE
BEGIN:VEVENT
DTSTART;VALUE=DATE:20260523
DTEND;VALUE=DATE:20260524
DTSTAMP:20260419T155814
CREATED:20260414T133319Z
LAST-MODIFIED:20260414T135230Z
UID:10005959-1779494400-1779580799@www.fawnlake-hoa.com
SUMMARY:FLCA Pool Opening Day at Clubhouse | Pool Hours: 11am- 9pm
DESCRIPTION:
URL:https://www.fawnlake-hoa.com/event/pool-opening-day-at-clubhouse-pool-hours-11am-9pm/
CATEGORIES:Events
END:VEVENT
BEGIN:VEVENT
DTSTART;TZID=America/New_York:20260523T110000
DTEND;TZID=America/New_York:20260523T170000
DTSTAMP:20260419T155814
CREATED:20260331T201758Z
LAST-MODIFIED:20260331T201758Z
UID:10005894-1779534000-1779555600@www.fawnlake-hoa.com
SUMMARY:Private Event at Clubhouse
DESCRIPTION:
URL:https://www.fawnlake-hoa.com/event/private-event-at-clubhouse-3/
CATEGORIES:Events
END:VEVENT
BEGIN:VEVENT
DTSTART;TZID=America/New_York:20260524T130000
DTEND;TZID=America/New_York:20260524T150000
DTSTAMP:20260419T155814
CREATED:20260330T163214Z
LAST-MODIFIED:20260330T163214Z
UID:10005336-1779627600-1779634800@www.fawnlake-hoa.com
SUMMARY:Baseball Field - Predators Practice
DESCRIPTION:
URL:https://www.fawnlake-hoa.com/event/baseball-field-predators-practice/2026-05-24/
CATEGORIES:Clubs & Organizations
END:VEVENT
BEGIN:VEVENT
DTSTART;TZID=America/New_York:20260526T140000
DTEND;TZID=America/New_York:20260529T200000
DTSTAMP:20260419T155814
CREATED:20260414T133525Z
LAST-MODIFIED:20260414T133559Z
UID:10005960-1779804000-1780084800@www.fawnlake-hoa.com
SUMMARY:School Day Pool Hours | 2:00pm- 8:00pm
DESCRIPTION:From May 26–29\, the pool will operate on school schedule hours from 2:00 PM to 8:00 PM
URL:https://www.fawnlake-hoa.com/event/school-day-pool-hours-200pm-800pm/
LOCATION:FLCA Clubhouse
CATEGORIES:Events
END:VEVENT
BEGIN:VEVENT
DTSTART;TZID=America/New_York:20260527T160000
DTEND;TZID=America/New_York:20260527T183000
DTSTAMP:20260419T155814
CREATED:20260323T131141Z
LAST-MODIFIED:20260327T183024Z
UID:10003671-1779897600-1779906600@www.fawnlake-hoa.com
SUMMARY:Women's Contemporary Issues Discussion Group at Pole Barn
DESCRIPTION:Monthly group discussion focused on interests ranging from local to international interests. Group meets on the last Wednesday of each month at the Pole Barn or Clubhouse.
URL:https://www.fawnlake-hoa.com/event/womens-contemporary-issues-discussion-group-at-pole-barn-2/2026-05-27/
LOCATION:Pole Barn
CATEGORIES:Clubs & Organizations
END:VEVENT
BEGIN:VEVENT
DTSTART;TZID=America/New_York:20260527T170000
DTEND;TZID=America/New_York:20260527T220000
DTSTAMP:20260419T155814
CREATED:20251016T172854Z
LAST-MODIFIED:20260327T184651Z
UID:10004330-1779901200-1779919200@www.fawnlake-hoa.com
SUMMARY:Board of Directors Meeting
DESCRIPTION:Executive Session: 5:00 pm| Open Session: 6:30pm
URL:https://www.fawnlake-hoa.com/event/board-of-directors-meeting/2026-05-27/
LOCATION:Clubhouse Board Room\, 11300 Longstreet Drive\, Spostylvania\, VA\, 22551\, United States
CATEGORIES:FLCA Meetings
END:VEVENT
BEGIN:VEVENT
DTSTART;TZID=America/New_York:20260528T190000
DTEND;TZID=America/New_York:20260528T200000
DTSTAMP:20260419T155814
CREATED:20260331T194010Z
LAST-MODIFIED:20260331T194154Z
UID:10005834-1779994800-1779998400@www.fawnlake-hoa.com
SUMMARY:Safety Committee Meeting
DESCRIPTION:Meets in the FLCA Clubhouse.
URL:https://www.fawnlake-hoa.com/event/safety-committee-meeting/2026-05-28/
CATEGORIES:FLCA Meetings
END:VEVENT
BEGIN:VEVENT
DTSTART;VALUE=DATE:20260529
DTEND;VALUE=DATE:20260530
DTSTAMP:20260419T155814
CREATED:20260414T133930Z
LAST-MODIFIED:20260414T133930Z
UID:10005962-1780012800-1780099199@www.fawnlake-hoa.com
SUMMARY:School Ends
DESCRIPTION:
URL:https://www.fawnlake-hoa.com/event/school-ends/
CATEGORIES:Events
END:VEVENT
BEGIN:VEVENT
DTSTART;TZID=America/New_York:20260529T170000
DTEND;TZID=America/New_York:20260529T200000
DTSTAMP:20260419T155814
CREATED:20260330T164757Z
LAST-MODIFIED:20260330T164757Z
UID:10005412-1780074000-1780084800@www.fawnlake-hoa.com
SUMMARY:Baseball Field Reservation
DESCRIPTION:
URL:https://www.fawnlake-hoa.com/event/baseball-field-reservation-2/2026-05-29/
CATEGORIES:Clubs & Organizations
END:VEVENT
BEGIN:VEVENT
DTSTART;TZID=America/New_York:20260531T130000
DTEND;TZID=America/New_York:20260531T150000
DTSTAMP:20260419T155814
CREATED:20260330T163214Z
LAST-MODIFIED:20260330T163214Z
UID:10005337-1780232400-1780239600@www.fawnlake-hoa.com
SUMMARY:Baseball Field - Predators Practice
DESCRIPTION:
URL:https://www.fawnlake-hoa.com/event/baseball-field-predators-practice/2026-05-31/
CATEGORIES:Clubs & Organizations
END:VEVENT
BEGIN:VEVENT
DTSTART;TZID=America/New_York:20260531T160000
DTEND;TZID=America/New_York:20260531T200000
DTSTAMP:20260419T155814
CREATED:20260402T173936Z
LAST-MODIFIED:20260402T173936Z
UID:10005896-1780243200-1780257600@www.fawnlake-hoa.com
SUMMARY:Private Event at Beach
DESCRIPTION:
URL:https://www.fawnlake-hoa.com/event/private-event-at-beach/
CATEGORIES:Events
END:VEVENT
BEGIN:VEVENT
DTSTART;TZID=America/New_York:20260601T150000
DTEND;TZID=America/New_York:20260601T163000
DTSTAMP:20260419T155814
CREATED:20251016T170323Z
LAST-MODIFIED:20260330T152341Z
UID:10005269-1780326000-1780331400@www.fawnlake-hoa.com
SUMMARY:Lake Environment Committee Meeting
DESCRIPTION:
URL:https://www.fawnlake-hoa.com/event/communications-committee/2026-06-01/
LOCATION:Clubhouse Board Room\, 11300 Longstreet Drive\, Spostylvania\, VA\, 22551\, United States
CATEGORIES:FLCA Meetings
END:VEVENT
BEGIN:VEVENT
DTSTART;TZID=America/New_York:20260601T190000
DTEND;TZID=America/New_York:20260601T200000
DTSTAMP:20260419T155814
CREATED:20260306T191855Z
LAST-MODIFIED:20260327T184238Z
UID:10004127-1780340400-1780344000@www.fawnlake-hoa.com
SUMMARY:ARCC (Architectural Review Board) Meeting
DESCRIPTION:VIA Teams Only \nLink: Teams Link \nPhone Number: 1-323-705-3199 \nMeeting ID: 287 849 651 6749 \nPassword: N89eE3Q3 \n 
URL:https://www.fawnlake-hoa.com/event/arcc-2/2026-06-01/
LOCATION:Virtual
CATEGORIES:FLCA Meetings
END:VEVENT
BEGIN:VEVENT
DTSTART;TZID=America/New_York:20260602T093000
DTEND;TZID=America/New_York:20260602T110000
DTSTAMP:20260419T155814
CREATED:20251224T222124Z
LAST-MODIFIED:20260330T163453Z
UID:10005346-1780392600-1780398000@www.fawnlake-hoa.com
SUMMARY:Block Makers in Board Room
DESCRIPTION:Club shares quilting techniques and projects. The group meets on the first Tuesday of each month in the FLCA Board Room.
URL:https://www.fawnlake-hoa.com/event/block-makers-in-board-room-2/2026-06-02/
LOCATION:FLCA Clubhouse
CATEGORIES:Clubs & Organizations
END:VEVENT
BEGIN:VEVENT
DTSTART;TZID=America/New_York:20260602T160000
DTEND;TZID=America/New_York:20260602T180000
DTSTAMP:20260419T155814
CREATED:20260413T153419Z
LAST-MODIFIED:20260413T153419Z
UID:10005654-1780416000-1780423200@www.fawnlake-hoa.com
SUMMARY:Finance Committee Meeting
DESCRIPTION:Meets in the FLCA Board Room.
URL:https://www.fawnlake-hoa.com/event/finance-committee-meeting-2/2026-06-02/
LOCATION:FLCA Clubhouse
CATEGORIES:FLCA Meetings
END:VEVENT
BEGIN:VEVENT
DTSTART;TZID=America/New_York:20260603T140000
DTEND;TZID=America/New_York:20260603T160000
DTSTAMP:20260419T155814
CREATED:20251224T222555Z
LAST-MODIFIED:20260330T161937Z
UID:10005080-1780495200-1780502400@www.fawnlake-hoa.com
SUMMARY:Fawn Lake Book Club
DESCRIPTION:The Fawn Lake book club generally meets on the 1st Wednesday of the month at 2 PM at the FLCA Clubhouse and maintains the community’s lending library.
URL:https://www.fawnlake-hoa.com/event/fawn-lake-book-club/2026-06-03/
LOCATION:FLCA Clubhouse
CATEGORIES:Clubs & Organizations
END:VEVENT
BEGIN:VEVENT
DTSTART;TZID=America/New_York:20260605T170000
DTEND;TZID=America/New_York:20260605T200000
DTSTAMP:20260419T155814
CREATED:20260330T164757Z
LAST-MODIFIED:20260330T164757Z
UID:10005413-1780678800-1780689600@www.fawnlake-hoa.com
SUMMARY:Baseball Field Reservation
DESCRIPTION:
URL:https://www.fawnlake-hoa.com/event/baseball-field-reservation-2/2026-06-05/
CATEGORIES:Clubs & Organizations
END:VEVENT
BEGIN:VEVENT
DTSTART;TZID=America/New_York:20260606T110000
DTEND;TZID=America/New_York:20260606T180000
DTSTAMP:20260419T155814
CREATED:20260407T153007Z
LAST-MODIFIED:20260407T153007Z
UID:10005897-1780743600-1780768800@www.fawnlake-hoa.com
SUMMARY:Private Event at FLCA Clubhouse
DESCRIPTION:
URL:https://www.fawnlake-hoa.com/event/private-event-at-flca-clubhouse/
LOCATION:FLCA Clubhouse
CATEGORIES:Events
END:VEVENT
BEGIN:VEVENT
DTSTART;TZID=America/New_York:20260607T130000
DTEND;TZID=America/New_York:20260607T150000
DTSTAMP:20260419T155814
CREATED:20260330T163214Z
LAST-MODIFIED:20260330T163214Z
UID:10005338-1780837200-1780844400@www.fawnlake-hoa.com
SUMMARY:Baseball Field - Predators Practice
DESCRIPTION:
URL:https://www.fawnlake-hoa.com/event/baseball-field-predators-practice/2026-06-07/
CATEGORIES:Clubs & Organizations
END:VEVENT
BEGIN:VEVENT
DTSTART;TZID=America/New_York:20260608T130000
DTEND;TZID=America/New_York:20260608T150000
DTSTAMP:20260419T155814
CREATED:20251224T224743Z
LAST-MODIFIED:20260330T143615Z
UID:10004770-1780923600-1780930800@www.fawnlake-hoa.com
SUMMARY:Needlework & Crafting Club in Board Room
DESCRIPTION:This group welcomes anyone interested in working on their crafting projects in a casual\, social setting. They meet on the second Monday of each month from 1:00pm to 3:00pm in the Board Room.
URL:https://www.fawnlake-hoa.com/event/needlework-crafting-club-in-board-room/2026-06-08/
LOCATION:Clubhouse Board Room\, 11300 Longstreet Drive\, Spostylvania\, VA\, 22551\, United States
CATEGORIES:Clubs & Organizations
END:VEVENT
BEGIN:VEVENT
DTSTART;TZID=America/New_York:20260609T160000
DTEND;TZID=America/New_York:20260609T173000
DTSTAMP:20260419T155814
CREATED:20260306T193224Z
LAST-MODIFIED:20260327T184045Z
UID:10004065-1781020800-1781026200@www.fawnlake-hoa.com
SUMMARY:Fawn Lake Woodworking Club in Clubhouse
DESCRIPTION:This club shares woodworking expertise amongst members & learns new skills. Meets every second Tuesday of the month from 4:00 pm-5:30 pm at the FLCA Clubhouse.
URL:https://www.fawnlake-hoa.com/event/fawn-lake-woodworking-club/2026-06-09/
LOCATION:FLCA Clubhouse
CATEGORIES:Clubs & Organizations
END:VEVENT
BEGIN:VEVENT
DTSTART;TZID=America/New_York:20260609T180000
DTEND;TZID=America/New_York:20260609T190000
DTSTAMP:20260419T155814
CREATED:20260414T125633Z
LAST-MODIFIED:20260414T125634Z
UID:10005714-1781028000-1781031600@www.fawnlake-hoa.com
SUMMARY:Commons Committee Meeting
DESCRIPTION:Meets in the FLCA Board Room.
URL:https://www.fawnlake-hoa.com/event/commons-committee-meeting-2/2026-06-09/
CATEGORIES:FLCA Meetings
END:VEVENT
BEGIN:VEVENT
DTSTART;TZID=America/New_York:20260610T180000
DTEND;TZID=America/New_York:20260610T190000
DTSTAMP:20260419T155814
CREATED:20260331T193530Z
LAST-MODIFIED:20260331T193652Z
UID:10005775-1781114400-1781118000@www.fawnlake-hoa.com
SUMMARY:Social Activities Committee Meeting
DESCRIPTION:In-Person and Via Teams. In-person is held at the FCLA HOA Clubhouse Board Room. \nMicrosoft Teams meeting \n\n\nJoin: https://teams.microsoft.com/meet/26999323624554?p=RwwsI31VyGE7TwbC9b \n\n\nMeeting ID: 269 993 236 245 54 \n\n\nPasscode: M6xk9YW6 \n\n\n\n\nNeed help? | System reference \n\nDial in by phone \n\n\n+1 469-480-6674/Phone Passcode: (529749361#) United States\, Dallas
URL:https://www.fawnlake-hoa.com/event/social-activities-committee-meeting-2/2026-06-10/
CATEGORIES:FLCA Meetings
END:VEVENT
BEGIN:VEVENT
DTSTART;TZID=America/New_York:20260611T120000
DTEND;TZID=America/New_York:20260611T170000
DTSTAMP:20260419T155814
CREATED:20260330T151039Z
LAST-MODIFIED:20260330T151039Z
UID:10004955-1781179200-1781197200@www.fawnlake-hoa.com
SUMMARY:Thursday Bridge Group
DESCRIPTION:
URL:https://www.fawnlake-hoa.com/event/thursday-bridge-group/2026-06-11/
CATEGORIES:Clubs & Organizations
END:VEVENT
BEGIN:VEVENT
DTSTART;TZID=America/New_York:20260611T180000
DTEND;TZID=America/New_York:20260611T190000
DTSTAMP:20260419T155814
CREATED:20260331T191703Z
LAST-MODIFIED:20260409T134300Z
UID:10005595-1781200800-1781204400@www.fawnlake-hoa.com
SUMMARY:Communications Committee Meeting
DESCRIPTION:Meets at the FLCA Clubhouse.
URL:https://www.fawnlake-hoa.com/event/communications-committee-meeting/2026-06-11/
CATEGORIES:FLCA Meetings
END:VEVENT
BEGIN:VEVENT
DTSTART;TZID=America/New_York:20260612T100000
DTEND;TZID=America/New_York:20260612T130000
DTSTAMP:20260419T155814
CREATED:20260330T151519Z
LAST-MODIFIED:20260331T185332Z
UID:10005016-1781258400-1781269200@www.fawnlake-hoa.com
SUMMARY:Homeschoolers at Pole Barn
DESCRIPTION:
URL:https://www.fawnlake-hoa.com/event/homeschoolers/2026-06-12/
LOCATION:Pole Barn
CATEGORIES:Clubs & Organizations
END:VEVENT
BEGIN:VEVENT
DTSTART;TZID=America/New_York:20260612T170000
DTEND;TZID=America/New_York:20260612T200000
DTSTAMP:20260419T155814
CREATED:20260330T164757Z
LAST-MODIFIED:20260330T164757Z
UID:10005414-1781283600-1781294400@www.fawnlake-hoa.com
SUMMARY:Baseball Field Reservation
DESCRIPTION:
URL:https://www.fawnlake-hoa.com/event/baseball-field-reservation-2/2026-06-12/
CATEGORIES:Clubs & Organizations
END:VEVENT
BEGIN:VEVENT
DTSTART;TZID=America/New_York:20260612T180000
DTEND;TZID=America/New_York:20260612T190000
DTSTAMP:20260419T155814
CREATED:20260330T151846Z
LAST-MODIFIED:20260331T185513Z
UID:10005472-1781287200-1781290800@www.fawnlake-hoa.com
SUMMARY:Kingdom Kids at Clubhouse
DESCRIPTION:
URL:https://www.fawnlake-hoa.com/event/kingdom-kids-at-clubhouse/2026-06-12/
LOCATION:FLCA Clubhouse
CATEGORIES:Clubs & Organizations
END:VEVENT
BEGIN:VEVENT
DTSTART;TZID=America/New_York:20260612T180000
DTEND;TZID=America/New_York:20260612T193000
DTSTAMP:20260419T155814
CREATED:20251224T223302Z
LAST-MODIFIED:20260330T143711Z
UID:10004833-1781287200-1781292600@www.fawnlake-hoa.com
SUMMARY:Duplicate Bridge in Clubhouse
DESCRIPTION:Duplicate Bridge matches are held on the 2nd Friday of the month at 6pm in the FLCA Clubhouse. \n-Dave Walsh
URL:https://www.fawnlake-hoa.com/event/duplicate-bridge-in-clubhouse/2026-06-12/
LOCATION:FLCA Clubhouse
CATEGORIES:Clubs & Organizations
END:VEVENT
BEGIN:VEVENT
DTSTART;TZID=America/New_York:20260614T130000
DTEND;TZID=America/New_York:20260614T150000
DTSTAMP:20260419T155814
CREATED:20260330T163214Z
LAST-MODIFIED:20260330T163214Z
UID:10005339-1781442000-1781449200@www.fawnlake-hoa.com
SUMMARY:Baseball Field - Predators Practice
DESCRIPTION:
URL:https://www.fawnlake-hoa.com/event/baseball-field-predators-practice/2026-06-14/
CATEGORIES:Clubs & Organizations
END:VEVENT
END:VCALENDAR