BEGIN:VCALENDAR
VERSION:2.0
PRODID:-//Fawn Lake Community Association - ECPv6.15.20//NONSGML v1.0//EN
CALSCALE:GREGORIAN
METHOD:PUBLISH
X-WR-CALNAME:Fawn Lake Community Association
X-ORIGINAL-URL:https://www.fawnlake-hoa.com
X-WR-CALDESC:Events for Fawn Lake Community Association
REFRESH-INTERVAL;VALUE=DURATION:PT1H
X-Robots-Tag:noindex
X-PUBLISHED-TTL:PT1H
BEGIN:VTIMEZONE
TZID:America/New_York
BEGIN:DAYLIGHT
TZOFFSETFROM:-0500
TZOFFSETTO:-0400
TZNAME:EDT
DTSTART:20250309T070000
END:DAYLIGHT
BEGIN:STANDARD
TZOFFSETFROM:-0400
TZOFFSETTO:-0500
TZNAME:EST
DTSTART:20251102T060000
END:STANDARD
BEGIN:DAYLIGHT
TZOFFSETFROM:-0500
TZOFFSETTO:-0400
TZNAME:EDT
DTSTART:20260308T070000
END:DAYLIGHT
BEGIN:STANDARD
TZOFFSETFROM:-0400
TZOFFSETTO:-0500
TZNAME:EST
DTSTART:20261101T060000
END:STANDARD
BEGIN:DAYLIGHT
TZOFFSETFROM:-0500
TZOFFSETTO:-0400
TZNAME:EDT
DTSTART:20270314T070000
END:DAYLIGHT
BEGIN:STANDARD
TZOFFSETFROM:-0400
TZOFFSETTO:-0500
TZNAME:EST
DTSTART:20271107T060000
END:STANDARD
END:VTIMEZONE
BEGIN:VEVENT
DTSTART;TZID=America/New_York:20260403T170000
DTEND;TZID=America/New_York:20260403T200000
DTSTAMP:20260419T135946
CREATED:20260330T164757Z
LAST-MODIFIED:20260330T164757Z
UID:10005404-1775235600-1775246400@www.fawnlake-hoa.com
SUMMARY:Baseball Field Reservation
DESCRIPTION:
URL:https://www.fawnlake-hoa.com/event/baseball-field-reservation-2/2026-04-03/
CATEGORIES:Clubs & Organizations
END:VEVENT
BEGIN:VEVENT
DTSTART;TZID=America/New_York:20260402T150000
DTEND;TZID=America/New_York:20260402T160000
DTSTAMP:20260419T135946
CREATED:20260330T162521Z
LAST-MODIFIED:20260330T162521Z
UID:10005327-1775142000-1775145600@www.fawnlake-hoa.com
SUMMARY:Private Meeting in Board Room
DESCRIPTION:
URL:https://www.fawnlake-hoa.com/event/private-meeting-in-board-room/
CATEGORIES:FLCA Meetings
END:VEVENT
BEGIN:VEVENT
DTSTART;TZID=America/New_York:20260401T140000
DTEND;TZID=America/New_York:20260401T160000
DTSTAMP:20260419T135946
CREATED:20251224T222555Z
LAST-MODIFIED:20260330T161937Z
UID:10005078-1775052000-1775059200@www.fawnlake-hoa.com
SUMMARY:Fawn Lake Book Club
DESCRIPTION:The Fawn Lake book club generally meets on the 1st Wednesday of the month at 2 PM at the FLCA Clubhouse and maintains the community’s lending library.
URL:https://www.fawnlake-hoa.com/event/fawn-lake-book-club/2026-04-01/
LOCATION:FLCA Clubhouse
CATEGORIES:Clubs & Organizations
END:VEVENT
BEGIN:VEVENT
DTSTART;TZID=America/New_York:20260331T083000
DTEND;TZID=America/New_York:20260331T160000
DTSTAMP:20260419T135946
CREATED:20251225T013819Z
LAST-MODIFIED:20260320T131917Z
UID:10001104-1774945800-1774972800@www.fawnlake-hoa.com
SUMMARY:Home and Garden Club in Clubhouse
DESCRIPTION:
URL:https://www.fawnlake-hoa.com/event/home-and-garden/
LOCATION:FLCA Clubhouse
CATEGORIES:Clubs & Organizations
END:VEVENT
BEGIN:VEVENT
DTSTART;TZID=America/New_York:20260325T170000
DTEND;TZID=America/New_York:20260325T220000
DTSTAMP:20260419T135946
CREATED:20251016T172854Z
LAST-MODIFIED:20260327T184651Z
UID:10004328-1774458000-1774476000@www.fawnlake-hoa.com
SUMMARY:Board of Directors Meeting
DESCRIPTION:Executive Session: 5:00 pm| Open Session: 6:30pm
URL:https://www.fawnlake-hoa.com/event/board-of-directors-meeting/2026-03-25/
LOCATION:Clubhouse Board Room\, 11300 Longstreet Drive\, Spostylvania\, VA\, 22551\, United States
CATEGORIES:FLCA Meetings
END:VEVENT
BEGIN:VEVENT
DTSTART;TZID=America/New_York:20260320T170000
DTEND;TZID=America/New_York:20260320T200000
DTSTAMP:20260419T135946
CREATED:20260309T224757Z
LAST-MODIFIED:20260320T132111Z
UID:10001557-1774026000-1774036800@www.fawnlake-hoa.com
SUMMARY:Baseball Field Reservation-Predators
DESCRIPTION:
URL:https://www.fawnlake-hoa.com/event/baseball-field-reservation/
CATEGORIES:Events
END:VEVENT
BEGIN:VEVENT
DTSTART;TZID=America/New_York:20260320T163000
DTEND;TZID=America/New_York:20260320T203000
DTSTAMP:20260419T135946
CREATED:20260306T203016Z
LAST-MODIFIED:20260320T132216Z
UID:10001355-1774024200-1774038600@www.fawnlake-hoa.com
SUMMARY:Sports Park Pavilion Reserved
DESCRIPTION:
URL:https://www.fawnlake-hoa.com/event/sports-park-pavilion-reserved/
LOCATION:Sports Park Pavilion
CATEGORIES:Events
END:VEVENT
BEGIN:VEVENT
DTSTART;TZID=America/New_York:20260319T180000
DTEND;TZID=America/New_York:20260319T200000
DTSTAMP:20260419T135946
CREATED:20260306T195724Z
LAST-MODIFIED:20260327T185154Z
UID:10004391-1773943200-1773950400@www.fawnlake-hoa.com
SUMMARY:Fawn Lake Moms Club in Clubhouse
DESCRIPTION:This club offers friendship\, support\, and mentorship to moms of all ages in Fawn Lake.
URL:https://www.fawnlake-hoa.com/event/fawn-lake-moms/2026-03-19/
CATEGORIES:Clubs & Organizations
END:VEVENT
BEGIN:VEVENT
DTSTART;TZID=America/New_York:20260318T183000
DTEND;TZID=America/New_York:20260318T203000
DTSTAMP:20260419T135946
CREATED:20260306T201253Z
LAST-MODIFIED:20260320T132321Z
UID:10001353-1773858600-1773865800@www.fawnlake-hoa.com
SUMMARY:Fawn Lake Fliers Swim Team
DESCRIPTION:The group is organized to provide a healthy and safe environment while pursuing fun\, athleticism\, good sportsmanship\, and skill progression in the sport of swimming.
URL:https://www.fawnlake-hoa.com/event/fawn-lake-fliers-swim-team/
LOCATION:FLCA Clubhouse Large Conference Room
CATEGORIES:Fitness,Clubs & Organizations
END:VEVENT
BEGIN:VEVENT
DTSTART;TZID=America/New_York:20260317T123000
DTEND;TZID=America/New_York:20260317T170000
DTSTAMP:20260419T135946
CREATED:20251224T235351Z
LAST-MODIFIED:20260330T142813Z
UID:10004576-1773750600-1773766800@www.fawnlake-hoa.com
SUMMARY:Duplicate Divas in Clubhouse
DESCRIPTION:This group plays bridge on the 3rd Tuesday of each month from 12:45 – 4:30pm at the FLCA Clubhouse\, either in the main lobby or the large conference room by the library.
URL:https://www.fawnlake-hoa.com/event/duplicate-divas-in-clubhouse/2026-03-17/
LOCATION:FLCA Clubhouse
CATEGORIES:Clubs & Organizations
END:VEVENT
BEGIN:VEVENT
DTSTART;TZID=America/New_York:20260317T093000
DTEND;TZID=America/New_York:20260317T110000
DTSTAMP:20260419T135946
CREATED:20251224T235000Z
LAST-MODIFIED:20260330T143021Z
UID:10004513-1773739800-1773745200@www.fawnlake-hoa.com
SUMMARY:Quilters Club in Board Room
DESCRIPTION:Quilters share their projects and assist with projects when issues occur. They meet on the third Thursday of the month in the Board Room.
URL:https://www.fawnlake-hoa.com/event/quilters-club-in-board-room/2026-03-17/
LOCATION:Clubhouse Board Room\, 11300 Longstreet Drive\, Spostylvania\, VA\, 22551\, United States
CATEGORIES:Clubs & Organizations
END:VEVENT
BEGIN:VEVENT
DTSTART;TZID=America/New_York:20260316T190000
DTEND;TZID=America/New_York:20260316T210000
DTSTAMP:20260419T135946
CREATED:20251225T013403Z
LAST-MODIFIED:20260331T194519Z
UID:10004639-1773687600-1773694800@www.fawnlake-hoa.com
SUMMARY:Line Dancing Club in Clubhouse
DESCRIPTION:Line Dancing for fitness and fellowship. Sessions to be held on the 3rd Monday of the month in the main lobby of the FLCA Clubhouse.
URL:https://www.fawnlake-hoa.com/event/line-dancing-club-in-clubhouse/2026-03-16/
LOCATION:FLCA Clubhouse
CATEGORIES:Clubs & Organizations
END:VEVENT
BEGIN:VEVENT
DTSTART;TZID=America/New_York:20260313T180000
DTEND;TZID=America/New_York:20260313T193000
DTSTAMP:20260419T135946
CREATED:20251224T223302Z
LAST-MODIFIED:20260330T143711Z
UID:10004830-1773424800-1773430200@www.fawnlake-hoa.com
SUMMARY:Duplicate Bridge in Clubhouse
DESCRIPTION:Duplicate Bridge matches are held on the 2nd Friday of the month at 6pm in the FLCA Clubhouse. \n-Dave Walsh
URL:https://www.fawnlake-hoa.com/event/duplicate-bridge-in-clubhouse/2026-03-13/
LOCATION:FLCA Clubhouse
CATEGORIES:Clubs & Organizations
END:VEVENT
BEGIN:VEVENT
DTSTART;TZID=America/New_York:20260309T130000
DTEND;TZID=America/New_York:20260309T150000
DTSTAMP:20260419T135946
CREATED:20251224T224743Z
LAST-MODIFIED:20260330T143615Z
UID:10004767-1773061200-1773068400@www.fawnlake-hoa.com
SUMMARY:Needlework & Crafting Club in Board Room
DESCRIPTION:This group welcomes anyone interested in working on their crafting projects in a casual\, social setting. They meet on the second Monday of each month from 1:00pm to 3:00pm in the Board Room.
URL:https://www.fawnlake-hoa.com/event/needlework-crafting-club-in-board-room/2026-03-09/
LOCATION:Clubhouse Board Room\, 11300 Longstreet Drive\, Spostylvania\, VA\, 22551\, United States
CATEGORIES:Clubs & Organizations
END:VEVENT
BEGIN:VEVENT
DTSTART;TZID=America/New_York:20260304T140000
DTEND;TZID=America/New_York:20260304T160000
DTSTAMP:20260419T135946
CREATED:20251224T222555Z
LAST-MODIFIED:20260330T161937Z
UID:10005077-1772632800-1772640000@www.fawnlake-hoa.com
SUMMARY:Fawn Lake Book Club
DESCRIPTION:The Fawn Lake book club generally meets on the 1st Wednesday of the month at 2 PM at the FLCA Clubhouse and maintains the community’s lending library.
URL:https://www.fawnlake-hoa.com/event/fawn-lake-book-club/2026-03-04/
LOCATION:FLCA Clubhouse
CATEGORIES:Clubs & Organizations
END:VEVENT
BEGIN:VEVENT
DTSTART;TZID=America/New_York:20260303T093000
DTEND;TZID=America/New_York:20260303T110000
DTSTAMP:20260419T135946
CREATED:20251224T222124Z
LAST-MODIFIED:20260330T163453Z
UID:10005343-1772530200-1772535600@www.fawnlake-hoa.com
SUMMARY:Block Makers in Board Room
DESCRIPTION:Club shares quilting techniques and projects. The group meets on the first Tuesday of each month in the FLCA Board Room.
URL:https://www.fawnlake-hoa.com/event/block-makers-in-board-room-2/2026-03-03/
LOCATION:FLCA Clubhouse
CATEGORIES:Clubs & Organizations
END:VEVENT
BEGIN:VEVENT
DTSTART;TZID=America/New_York:20260302T150000
DTEND;TZID=America/New_York:20260302T163000
DTSTAMP:20260419T135946
CREATED:20251016T170323Z
LAST-MODIFIED:20260330T152341Z
UID:10005266-1772463600-1772469000@www.fawnlake-hoa.com
SUMMARY:Lake Environment Committee Meeting
DESCRIPTION:
URL:https://www.fawnlake-hoa.com/event/communications-committee/2026-03-02/
LOCATION:Clubhouse Board Room\, 11300 Longstreet Drive\, Spostylvania\, VA\, 22551\, United States
CATEGORIES:FLCA Meetings
END:VEVENT
BEGIN:VEVENT
DTSTART;TZID=America/New_York:20260217T123000
DTEND;TZID=America/New_York:20260217T170000
DTSTAMP:20260419T135946
CREATED:20251224T235351Z
LAST-MODIFIED:20260330T142813Z
UID:10004575-1771331400-1771347600@www.fawnlake-hoa.com
SUMMARY:Duplicate Divas in Clubhouse
DESCRIPTION:This group plays bridge on the 3rd Tuesday of each month from 12:45 – 4:30pm at the FLCA Clubhouse\, either in the main lobby or the large conference room by the library.
URL:https://www.fawnlake-hoa.com/event/duplicate-divas-in-clubhouse/2026-02-17/
LOCATION:FLCA Clubhouse
CATEGORIES:Clubs & Organizations
END:VEVENT
BEGIN:VEVENT
DTSTART;TZID=America/New_York:20260217T093000
DTEND;TZID=America/New_York:20260217T110000
DTSTAMP:20260419T135946
CREATED:20251224T235000Z
LAST-MODIFIED:20260330T143021Z
UID:10004512-1771320600-1771326000@www.fawnlake-hoa.com
SUMMARY:Quilters Club in Board Room
DESCRIPTION:Quilters share their projects and assist with projects when issues occur. They meet on the third Thursday of the month in the Board Room.
URL:https://www.fawnlake-hoa.com/event/quilters-club-in-board-room/2026-02-17/
LOCATION:Clubhouse Board Room\, 11300 Longstreet Drive\, Spostylvania\, VA\, 22551\, United States
CATEGORIES:Clubs & Organizations
END:VEVENT
BEGIN:VEVENT
DTSTART;TZID=America/New_York:20260216T190000
DTEND;TZID=America/New_York:20260216T210000
DTSTAMP:20260419T135946
CREATED:20251225T013403Z
LAST-MODIFIED:20260331T194519Z
UID:10004638-1771268400-1771275600@www.fawnlake-hoa.com
SUMMARY:Line Dancing Club in Clubhouse
DESCRIPTION:Line Dancing for fitness and fellowship. Sessions to be held on the 3rd Monday of the month in the main lobby of the FLCA Clubhouse.
URL:https://www.fawnlake-hoa.com/event/line-dancing-club-in-clubhouse/2026-02-16/
LOCATION:FLCA Clubhouse
CATEGORIES:Clubs & Organizations
END:VEVENT
BEGIN:VEVENT
DTSTART;TZID=America/New_York:20260213T180000
DTEND;TZID=America/New_York:20260213T193000
DTSTAMP:20260419T135946
CREATED:20251224T223302Z
LAST-MODIFIED:20260330T143711Z
UID:10004829-1771005600-1771011000@www.fawnlake-hoa.com
SUMMARY:Duplicate Bridge in Clubhouse
DESCRIPTION:Duplicate Bridge matches are held on the 2nd Friday of the month at 6pm in the FLCA Clubhouse. \n-Dave Walsh
URL:https://www.fawnlake-hoa.com/event/duplicate-bridge-in-clubhouse/2026-02-13/
LOCATION:FLCA Clubhouse
CATEGORIES:Clubs & Organizations
END:VEVENT
BEGIN:VEVENT
DTSTART;TZID=America/New_York:20260209T130000
DTEND;TZID=America/New_York:20260209T150000
DTSTAMP:20260419T135946
CREATED:20251224T224743Z
LAST-MODIFIED:20260330T143615Z
UID:10004766-1770642000-1770649200@www.fawnlake-hoa.com
SUMMARY:Needlework & Crafting Club in Board Room
DESCRIPTION:This group welcomes anyone interested in working on their crafting projects in a casual\, social setting. They meet on the second Monday of each month from 1:00pm to 3:00pm in the Board Room.
URL:https://www.fawnlake-hoa.com/event/needlework-crafting-club-in-board-room/2026-02-09/
LOCATION:Clubhouse Board Room\, 11300 Longstreet Drive\, Spostylvania\, VA\, 22551\, United States
CATEGORIES:Clubs & Organizations
END:VEVENT
BEGIN:VEVENT
DTSTART;TZID=America/New_York:20260204T140000
DTEND;TZID=America/New_York:20260204T160000
DTSTAMP:20260419T135946
CREATED:20251224T222555Z
LAST-MODIFIED:20260330T161937Z
UID:10005076-1770213600-1770220800@www.fawnlake-hoa.com
SUMMARY:Fawn Lake Book Club
DESCRIPTION:The Fawn Lake book club generally meets on the 1st Wednesday of the month at 2 PM at the FLCA Clubhouse and maintains the community’s lending library.
URL:https://www.fawnlake-hoa.com/event/fawn-lake-book-club/2026-02-04/
LOCATION:FLCA Clubhouse
CATEGORIES:Clubs & Organizations
END:VEVENT
BEGIN:VEVENT
DTSTART;TZID=America/New_York:20260203T093000
DTEND;TZID=America/New_York:20260203T110000
DTSTAMP:20260419T135946
CREATED:20251224T222124Z
LAST-MODIFIED:20260330T163453Z
UID:10005342-1770111000-1770116400@www.fawnlake-hoa.com
SUMMARY:Block Makers in Board Room
DESCRIPTION:Club shares quilting techniques and projects. The group meets on the first Tuesday of each month in the FLCA Board Room.
URL:https://www.fawnlake-hoa.com/event/block-makers-in-board-room-2/2026-02-03/
LOCATION:FLCA Clubhouse
CATEGORIES:Clubs & Organizations
END:VEVENT
BEGIN:VEVENT
DTSTART;TZID=America/New_York:20260202T150000
DTEND;TZID=America/New_York:20260202T163000
DTSTAMP:20260419T135946
CREATED:20251016T170323Z
LAST-MODIFIED:20260330T152341Z
UID:10005265-1770044400-1770049800@www.fawnlake-hoa.com
SUMMARY:Lake Environment Committee Meeting
DESCRIPTION:
URL:https://www.fawnlake-hoa.com/event/communications-committee/2026-02-02/
LOCATION:Clubhouse Board Room\, 11300 Longstreet Drive\, Spostylvania\, VA\, 22551\, United States
CATEGORIES:FLCA Meetings
END:VEVENT
BEGIN:VEVENT
DTSTART;TZID=America/New_York:20260120T123000
DTEND;TZID=America/New_York:20260120T170000
DTSTAMP:20260419T135946
CREATED:20251224T235351Z
LAST-MODIFIED:20260330T142813Z
UID:10004574-1768912200-1768928400@www.fawnlake-hoa.com
SUMMARY:Duplicate Divas in Clubhouse
DESCRIPTION:This group plays bridge on the 3rd Tuesday of each month from 12:45 – 4:30pm at the FLCA Clubhouse\, either in the main lobby or the large conference room by the library.
URL:https://www.fawnlake-hoa.com/event/duplicate-divas-in-clubhouse/2026-01-20/
LOCATION:FLCA Clubhouse
CATEGORIES:Clubs & Organizations
END:VEVENT
BEGIN:VEVENT
DTSTART;TZID=America/New_York:20260120T093000
DTEND;TZID=America/New_York:20260120T110000
DTSTAMP:20260419T135946
CREATED:20251224T235000Z
LAST-MODIFIED:20260330T143021Z
UID:10004511-1768901400-1768906800@www.fawnlake-hoa.com
SUMMARY:Quilters Club in Board Room
DESCRIPTION:Quilters share their projects and assist with projects when issues occur. They meet on the third Thursday of the month in the Board Room.
URL:https://www.fawnlake-hoa.com/event/quilters-club-in-board-room/2026-01-20/
LOCATION:Clubhouse Board Room\, 11300 Longstreet Drive\, Spostylvania\, VA\, 22551\, United States
CATEGORIES:Clubs & Organizations
END:VEVENT
BEGIN:VEVENT
DTSTART;TZID=America/New_York:20260119T190000
DTEND;TZID=America/New_York:20260119T210000
DTSTAMP:20260419T135946
CREATED:20251225T013403Z
LAST-MODIFIED:20260331T194519Z
UID:10004637-1768849200-1768856400@www.fawnlake-hoa.com
SUMMARY:Line Dancing Club in Clubhouse
DESCRIPTION:Line Dancing for fitness and fellowship. Sessions to be held on the 3rd Monday of the month in the main lobby of the FLCA Clubhouse.
URL:https://www.fawnlake-hoa.com/event/line-dancing-club-in-clubhouse/2026-01-19/
LOCATION:FLCA Clubhouse
CATEGORIES:Clubs & Organizations
END:VEVENT
BEGIN:VEVENT
DTSTART;TZID=America/New_York:20260112T130000
DTEND;TZID=America/New_York:20260112T150000
DTSTAMP:20260419T135946
CREATED:20251224T224743Z
LAST-MODIFIED:20260330T143615Z
UID:10004765-1768222800-1768230000@www.fawnlake-hoa.com
SUMMARY:Needlework & Crafting Club in Board Room
DESCRIPTION:This group welcomes anyone interested in working on their crafting projects in a casual\, social setting. They meet on the second Monday of each month from 1:00pm to 3:00pm in the Board Room.
URL:https://www.fawnlake-hoa.com/event/needlework-crafting-club-in-board-room/2026-01-12/
LOCATION:Clubhouse Board Room\, 11300 Longstreet Drive\, Spostylvania\, VA\, 22551\, United States
CATEGORIES:Clubs & Organizations
END:VEVENT
BEGIN:VEVENT
DTSTART;TZID=America/New_York:20260109T180000
DTEND;TZID=America/New_York:20260109T193000
DTSTAMP:20260419T135946
CREATED:20251224T223302Z
LAST-MODIFIED:20260330T143711Z
UID:10004828-1767981600-1767987000@www.fawnlake-hoa.com
SUMMARY:Duplicate Bridge in Clubhouse
DESCRIPTION:Duplicate Bridge matches are held on the 2nd Friday of the month at 6pm in the FLCA Clubhouse. \n-Dave Walsh
URL:https://www.fawnlake-hoa.com/event/duplicate-bridge-in-clubhouse/2026-01-09/
LOCATION:FLCA Clubhouse
CATEGORIES:Clubs & Organizations
END:VEVENT
END:VCALENDAR