BEGIN:VCALENDAR
VERSION:2.0
PRODID:-//Fawn Lake Community Association - ECPv6.15.20//NONSGML v1.0//EN
CALSCALE:GREGORIAN
METHOD:PUBLISH
X-ORIGINAL-URL:https://www.fawnlake-hoa.com
X-WR-CALDESC:Events for Fawn Lake Community Association
REFRESH-INTERVAL;VALUE=DURATION:PT1H
X-Robots-Tag:noindex
X-PUBLISHED-TTL:PT1H
BEGIN:VTIMEZONE
TZID:America/New_York
BEGIN:DAYLIGHT
TZOFFSETFROM:-0500
TZOFFSETTO:-0400
TZNAME:EDT
DTSTART:20250309T070000
END:DAYLIGHT
BEGIN:STANDARD
TZOFFSETFROM:-0400
TZOFFSETTO:-0500
TZNAME:EST
DTSTART:20251102T060000
END:STANDARD
BEGIN:DAYLIGHT
TZOFFSETFROM:-0500
TZOFFSETTO:-0400
TZNAME:EDT
DTSTART:20260308T070000
END:DAYLIGHT
BEGIN:STANDARD
TZOFFSETFROM:-0400
TZOFFSETTO:-0500
TZNAME:EST
DTSTART:20261101T060000
END:STANDARD
BEGIN:DAYLIGHT
TZOFFSETFROM:-0500
TZOFFSETTO:-0400
TZNAME:EDT
DTSTART:20270314T070000
END:DAYLIGHT
BEGIN:STANDARD
TZOFFSETFROM:-0400
TZOFFSETTO:-0500
TZNAME:EST
DTSTART:20271107T060000
END:STANDARD
END:VTIMEZONE
BEGIN:VEVENT
DTSTART;TZID=America/New_York:20260707T160000
DTEND;TZID=America/New_York:20260707T180000
DTSTAMP:20260419T220358
CREATED:20260413T153419Z
LAST-MODIFIED:20260413T153419Z
UID:10005656-1783440000-1783447200@www.fawnlake-hoa.com
SUMMARY:Finance Committee Meeting
DESCRIPTION:Meets in the FLCA Board Room.
URL:https://www.fawnlake-hoa.com/event/finance-committee-meeting-2/2026-07-07/
LOCATION:FLCA Clubhouse
CATEGORIES:FLCA Meetings
END:VEVENT
BEGIN:VEVENT
DTSTART;TZID=America/New_York:20260708T180000
DTEND;TZID=America/New_York:20260708T190000
DTSTAMP:20260419T220358
CREATED:20260331T193530Z
LAST-MODIFIED:20260331T193652Z
UID:10005776-1783533600-1783537200@www.fawnlake-hoa.com
SUMMARY:Social Activities Committee Meeting
DESCRIPTION:In-Person and Via Teams. In-person is held at the FCLA HOA Clubhouse Board Room. \nMicrosoft Teams meeting \n\n\nJoin: https://teams.microsoft.com/meet/26999323624554?p=RwwsI31VyGE7TwbC9b \n\n\nMeeting ID: 269 993 236 245 54 \n\n\nPasscode: M6xk9YW6 \n\n\n\n\nNeed help? | System reference \n\nDial in by phone \n\n\n+1 469-480-6674/Phone Passcode: (529749361#) United States\, Dallas
URL:https://www.fawnlake-hoa.com/event/social-activities-committee-meeting-2/2026-07-08/
CATEGORIES:FLCA Meetings
END:VEVENT
BEGIN:VEVENT
DTSTART;TZID=America/New_York:20260709T120000
DTEND;TZID=America/New_York:20260709T170000
DTSTAMP:20260419T220358
CREATED:20260330T151039Z
LAST-MODIFIED:20260330T151039Z
UID:10004956-1783598400-1783616400@www.fawnlake-hoa.com
SUMMARY:Thursday Bridge Group
DESCRIPTION:
URL:https://www.fawnlake-hoa.com/event/thursday-bridge-group/2026-07-09/
CATEGORIES:Clubs & Organizations
END:VEVENT
BEGIN:VEVENT
DTSTART;TZID=America/New_York:20260709T180000
DTEND;TZID=America/New_York:20260709T190000
DTSTAMP:20260419T220358
CREATED:20260331T191703Z
LAST-MODIFIED:20260409T134300Z
UID:10005596-1783620000-1783623600@www.fawnlake-hoa.com
SUMMARY:Communications Committee Meeting
DESCRIPTION:Meets at the FLCA Clubhouse.
URL:https://www.fawnlake-hoa.com/event/communications-committee-meeting/2026-07-09/
CATEGORIES:FLCA Meetings
END:VEVENT
BEGIN:VEVENT
DTSTART;TZID=America/New_York:20260710T100000
DTEND;TZID=America/New_York:20260710T130000
DTSTAMP:20260419T220358
CREATED:20260330T151519Z
LAST-MODIFIED:20260331T185332Z
UID:10005017-1783677600-1783688400@www.fawnlake-hoa.com
SUMMARY:Homeschoolers at Pole Barn
DESCRIPTION:
URL:https://www.fawnlake-hoa.com/event/homeschoolers/2026-07-10/
LOCATION:Pole Barn
CATEGORIES:Clubs & Organizations
END:VEVENT
BEGIN:VEVENT
DTSTART;TZID=America/New_York:20260710T170000
DTEND;TZID=America/New_York:20260710T200000
DTSTAMP:20260419T220358
CREATED:20260330T164757Z
LAST-MODIFIED:20260330T164757Z
UID:10005418-1783702800-1783713600@www.fawnlake-hoa.com
SUMMARY:Baseball Field Reservation
DESCRIPTION:
URL:https://www.fawnlake-hoa.com/event/baseball-field-reservation-2/2026-07-10/
CATEGORIES:Clubs & Organizations
END:VEVENT
BEGIN:VEVENT
DTSTART;TZID=America/New_York:20260710T180000
DTEND;TZID=America/New_York:20260710T190000
DTSTAMP:20260419T220358
CREATED:20260330T151846Z
LAST-MODIFIED:20260331T185513Z
UID:10005473-1783706400-1783710000@www.fawnlake-hoa.com
SUMMARY:Kingdom Kids at Clubhouse
DESCRIPTION:
URL:https://www.fawnlake-hoa.com/event/kingdom-kids-at-clubhouse/2026-07-10/
LOCATION:FLCA Clubhouse
CATEGORIES:Clubs & Organizations
END:VEVENT
BEGIN:VEVENT
DTSTART;TZID=America/New_York:20260710T180000
DTEND;TZID=America/New_York:20260710T193000
DTSTAMP:20260419T220358
CREATED:20251224T223302Z
LAST-MODIFIED:20260330T143711Z
UID:10004834-1783706400-1783711800@www.fawnlake-hoa.com
SUMMARY:Duplicate Bridge in Clubhouse
DESCRIPTION:Duplicate Bridge matches are held on the 2nd Friday of the month at 6pm in the FLCA Clubhouse. \n-Dave Walsh
URL:https://www.fawnlake-hoa.com/event/duplicate-bridge-in-clubhouse/2026-07-10/
LOCATION:FLCA Clubhouse
CATEGORIES:Clubs & Organizations
END:VEVENT
BEGIN:VEVENT
DTSTART;TZID=America/New_York:20260711T180000
DTEND;TZID=America/New_York:20260711T220000
DTSTAMP:20260419T220358
CREATED:20260324T162211Z
LAST-MODIFIED:20260324T162211Z
UID:10003666-1783792800-1783807200@www.fawnlake-hoa.com
SUMMARY:Private Event
DESCRIPTION:
URL:https://www.fawnlake-hoa.com/event/private-event/
CATEGORIES:Events
END:VEVENT
BEGIN:VEVENT
DTSTART;TZID=America/New_York:20260713T130000
DTEND;TZID=America/New_York:20260713T150000
DTSTAMP:20260419T220358
CREATED:20251224T224743Z
LAST-MODIFIED:20260330T143615Z
UID:10004771-1783947600-1783954800@www.fawnlake-hoa.com
SUMMARY:Needlework & Crafting Club in Board Room
DESCRIPTION:This group welcomes anyone interested in working on their crafting projects in a casual\, social setting. They meet on the second Monday of each month from 1:00pm to 3:00pm in the Board Room.
URL:https://www.fawnlake-hoa.com/event/needlework-crafting-club-in-board-room/2026-07-13/
LOCATION:Clubhouse Board Room\, 11300 Longstreet Drive\, Spostylvania\, VA\, 22551\, United States
CATEGORIES:Clubs & Organizations
END:VEVENT
BEGIN:VEVENT
DTSTART;TZID=America/New_York:20260713T190000
DTEND;TZID=America/New_York:20260713T200000
DTSTAMP:20260419T220358
CREATED:20260306T191855Z
LAST-MODIFIED:20260327T184238Z
UID:10004130-1783969200-1783972800@www.fawnlake-hoa.com
SUMMARY:ARCC (Architectural Review Board) Meeting
DESCRIPTION:VIA Teams Only \nLink: Teams Link \nPhone Number: 1-323-705-3199 \nMeeting ID: 287 849 651 6749 \nPassword: N89eE3Q3 \n 
URL:https://www.fawnlake-hoa.com/event/arcc-2/2026-07-13/
LOCATION:Virtual
CATEGORIES:FLCA Meetings
END:VEVENT
BEGIN:VEVENT
DTSTART;TZID=America/New_York:20260714T160000
DTEND;TZID=America/New_York:20260714T173000
DTSTAMP:20260419T220358
CREATED:20260306T193224Z
LAST-MODIFIED:20260327T184045Z
UID:10004066-1784044800-1784050200@www.fawnlake-hoa.com
SUMMARY:Fawn Lake Woodworking Club in Clubhouse
DESCRIPTION:This club shares woodworking expertise amongst members & learns new skills. Meets every second Tuesday of the month from 4:00 pm-5:30 pm at the FLCA Clubhouse.
URL:https://www.fawnlake-hoa.com/event/fawn-lake-woodworking-club/2026-07-14/
LOCATION:FLCA Clubhouse
CATEGORIES:Clubs & Organizations
END:VEVENT
BEGIN:VEVENT
DTSTART;TZID=America/New_York:20260714T180000
DTEND;TZID=America/New_York:20260714T190000
DTSTAMP:20260419T220358
CREATED:20260414T125633Z
LAST-MODIFIED:20260414T125634Z
UID:10005900-1784052000-1784055600@www.fawnlake-hoa.com
SUMMARY:Commons Committee Meeting
DESCRIPTION:Meets in the FLCA Board Room.
URL:https://www.fawnlake-hoa.com/event/commons-committee-meeting-2/2026-07-14/
CATEGORIES:FLCA Meetings
END:VEVENT
BEGIN:VEVENT
DTSTART;TZID=America/New_York:20260716T180000
DTEND;TZID=America/New_York:20260716T200000
DTSTAMP:20260419T220358
CREATED:20260306T195724Z
LAST-MODIFIED:20260327T185154Z
UID:10004395-1784224800-1784232000@www.fawnlake-hoa.com
SUMMARY:Fawn Lake Moms Club in Clubhouse
DESCRIPTION:This club offers friendship\, support\, and mentorship to moms of all ages in Fawn Lake.
URL:https://www.fawnlake-hoa.com/event/fawn-lake-moms/2026-07-16/
CATEGORIES:Clubs & Organizations
END:VEVENT
BEGIN:VEVENT
DTSTART;TZID=America/New_York:20260717T170000
DTEND;TZID=America/New_York:20260717T200000
DTSTAMP:20260419T220358
CREATED:20260330T164757Z
LAST-MODIFIED:20260330T164757Z
UID:10005419-1784307600-1784318400@www.fawnlake-hoa.com
SUMMARY:Baseball Field Reservation
DESCRIPTION:
URL:https://www.fawnlake-hoa.com/event/baseball-field-reservation-2/2026-07-17/
CATEGORIES:Clubs & Organizations
END:VEVENT
BEGIN:VEVENT
DTSTART;TZID=America/New_York:20260720T190000
DTEND;TZID=America/New_York:20260720T210000
DTSTAMP:20260419T220358
CREATED:20251225T013403Z
LAST-MODIFIED:20260331T194519Z
UID:10004643-1784574000-1784581200@www.fawnlake-hoa.com
SUMMARY:Line Dancing Club in Clubhouse
DESCRIPTION:Line Dancing for fitness and fellowship. Sessions to be held on the 3rd Monday of the month in the main lobby of the FLCA Clubhouse.
URL:https://www.fawnlake-hoa.com/event/line-dancing-club-in-clubhouse/2026-07-20/
LOCATION:FLCA Clubhouse
CATEGORIES:Clubs & Organizations
END:VEVENT
BEGIN:VEVENT
DTSTART;TZID=America/New_York:20260721T093000
DTEND;TZID=America/New_York:20260721T110000
DTSTAMP:20260419T220358
CREATED:20251224T235000Z
LAST-MODIFIED:20260330T143021Z
UID:10004517-1784626200-1784631600@www.fawnlake-hoa.com
SUMMARY:Quilters Club in Board Room
DESCRIPTION:Quilters share their projects and assist with projects when issues occur. They meet on the third Thursday of the month in the Board Room.
URL:https://www.fawnlake-hoa.com/event/quilters-club-in-board-room/2026-07-21/
LOCATION:Clubhouse Board Room\, 11300 Longstreet Drive\, Spostylvania\, VA\, 22551\, United States
CATEGORIES:Clubs & Organizations
END:VEVENT
BEGIN:VEVENT
DTSTART;TZID=America/New_York:20260721T123000
DTEND;TZID=America/New_York:20260721T170000
DTSTAMP:20260419T220358
CREATED:20251224T235351Z
LAST-MODIFIED:20260330T142813Z
UID:10004580-1784637000-1784653200@www.fawnlake-hoa.com
SUMMARY:Duplicate Divas in Clubhouse
DESCRIPTION:This group plays bridge on the 3rd Tuesday of each month from 12:45 – 4:30pm at the FLCA Clubhouse\, either in the main lobby or the large conference room by the library.
URL:https://www.fawnlake-hoa.com/event/duplicate-divas-in-clubhouse/2026-07-21/
LOCATION:FLCA Clubhouse
CATEGORIES:Clubs & Organizations
END:VEVENT
BEGIN:VEVENT
DTSTART;TZID=America/New_York:20260721T180000
DTEND;TZID=America/New_York:20260721T190000
DTSTAMP:20260419T220358
CREATED:20260330T142516Z
LAST-MODIFIED:20260331T190955Z
UID:10005536-1784656800-1784660400@www.fawnlake-hoa.com
SUMMARY:Lake Usage Committee Meeting
DESCRIPTION:Meeting located in Board Room.
URL:https://www.fawnlake-hoa.com/event/lake-usage-3/2026-07-21/
LOCATION:Clubhouse Board Room\, 11300 Longstreet Drive\, Spostylvania\, VA\, 22551\, United States
CATEGORIES:FLCA Meetings
ATTACH;FMTTYPE=image/png:https://www.fawnlake-hoa.com/wp-content/uploads/2025/10/PAWS.png
END:VEVENT
BEGIN:VEVENT
DTSTART;TZID=America/New_York:20260722T170000
DTEND;TZID=America/New_York:20260722T220000
DTSTAMP:20260419T220358
CREATED:20251016T172854Z
LAST-MODIFIED:20260327T184651Z
UID:10004332-1784739600-1784757600@www.fawnlake-hoa.com
SUMMARY:Board of Directors Meeting
DESCRIPTION:Executive Session: 5:00 pm| Open Session: 6:30pm
URL:https://www.fawnlake-hoa.com/event/board-of-directors-meeting/2026-07-22/
LOCATION:Clubhouse Board Room\, 11300 Longstreet Drive\, Spostylvania\, VA\, 22551\, United States
CATEGORIES:FLCA Meetings
END:VEVENT
BEGIN:VEVENT
DTSTART;TZID=America/New_York:20260723T190000
DTEND;TZID=America/New_York:20260723T200000
DTSTAMP:20260419T220358
CREATED:20260331T194010Z
LAST-MODIFIED:20260331T194154Z
UID:10005836-1784833200-1784836800@www.fawnlake-hoa.com
SUMMARY:Safety Committee Meeting
DESCRIPTION:Meets in the FLCA Clubhouse.
URL:https://www.fawnlake-hoa.com/event/safety-committee-meeting/2026-07-23/
CATEGORIES:FLCA Meetings
END:VEVENT
BEGIN:VEVENT
DTSTART;TZID=America/New_York:20260724T170000
DTEND;TZID=America/New_York:20260724T200000
DTSTAMP:20260419T220358
CREATED:20260330T164757Z
LAST-MODIFIED:20260330T164757Z
UID:10005420-1784912400-1784923200@www.fawnlake-hoa.com
SUMMARY:Baseball Field Reservation
DESCRIPTION:
URL:https://www.fawnlake-hoa.com/event/baseball-field-reservation-2/2026-07-24/
CATEGORIES:Clubs & Organizations
END:VEVENT
BEGIN:VEVENT
DTSTART;TZID=America/New_York:20260727T190000
DTEND;TZID=America/New_York:20260727T200000
DTSTAMP:20260419T220358
CREATED:20260306T191855Z
LAST-MODIFIED:20260327T184238Z
UID:10004131-1785178800-1785182400@www.fawnlake-hoa.com
SUMMARY:ARCC (Architectural Review Board) Meeting
DESCRIPTION:VIA Teams Only \nLink: Teams Link \nPhone Number: 1-323-705-3199 \nMeeting ID: 287 849 651 6749 \nPassword: N89eE3Q3 \n 
URL:https://www.fawnlake-hoa.com/event/arcc-2/2026-07-27/
LOCATION:Virtual
CATEGORIES:FLCA Meetings
END:VEVENT
BEGIN:VEVENT
DTSTART;TZID=America/New_York:20260729T160000
DTEND;TZID=America/New_York:20260729T183000
DTSTAMP:20260419T220358
CREATED:20260323T131141Z
LAST-MODIFIED:20260327T183024Z
UID:10003673-1785340800-1785349800@www.fawnlake-hoa.com
SUMMARY:Women's Contemporary Issues Discussion Group at Pole Barn
DESCRIPTION:Monthly group discussion focused on interests ranging from local to international interests. Group meets on the last Wednesday of each month at the Pole Barn or Clubhouse.
URL:https://www.fawnlake-hoa.com/event/womens-contemporary-issues-discussion-group-at-pole-barn-2/2026-07-29/
LOCATION:Pole Barn
CATEGORIES:Clubs & Organizations
END:VEVENT
BEGIN:VEVENT
DTSTART;TZID=America/New_York:20260731T170000
DTEND;TZID=America/New_York:20260731T200000
DTSTAMP:20260419T220358
CREATED:20260330T164757Z
LAST-MODIFIED:20260330T164757Z
UID:10005421-1785517200-1785528000@www.fawnlake-hoa.com
SUMMARY:Baseball Field Reservation
DESCRIPTION:
URL:https://www.fawnlake-hoa.com/event/baseball-field-reservation-2/2026-07-31/
CATEGORIES:Clubs & Organizations
END:VEVENT
BEGIN:VEVENT
DTSTART;TZID=America/New_York:20260803T150000
DTEND;TZID=America/New_York:20260803T163000
DTSTAMP:20260419T220358
CREATED:20251016T170323Z
LAST-MODIFIED:20260330T152341Z
UID:10005271-1785769200-1785774600@www.fawnlake-hoa.com
SUMMARY:Lake Environment Committee Meeting
DESCRIPTION:
URL:https://www.fawnlake-hoa.com/event/communications-committee/2026-08-03/
LOCATION:Clubhouse Board Room\, 11300 Longstreet Drive\, Spostylvania\, VA\, 22551\, United States
CATEGORIES:FLCA Meetings
END:VEVENT
BEGIN:VEVENT
DTSTART;TZID=America/New_York:20260804T093000
DTEND;TZID=America/New_York:20260804T110000
DTSTAMP:20260419T220358
CREATED:20251224T222124Z
LAST-MODIFIED:20260330T163453Z
UID:10005348-1785835800-1785841200@www.fawnlake-hoa.com
SUMMARY:Block Makers in Board Room
DESCRIPTION:Club shares quilting techniques and projects. The group meets on the first Tuesday of each month in the FLCA Board Room.
URL:https://www.fawnlake-hoa.com/event/block-makers-in-board-room-2/2026-08-04/
LOCATION:FLCA Clubhouse
CATEGORIES:Clubs & Organizations
END:VEVENT
BEGIN:VEVENT
DTSTART;TZID=America/New_York:20260804T160000
DTEND;TZID=America/New_York:20260804T180000
DTSTAMP:20260419T220358
CREATED:20260413T153419Z
LAST-MODIFIED:20260413T153419Z
UID:10005657-1785859200-1785866400@www.fawnlake-hoa.com
SUMMARY:Finance Committee Meeting
DESCRIPTION:Meets in the FLCA Board Room.
URL:https://www.fawnlake-hoa.com/event/finance-committee-meeting-2/2026-08-04/
LOCATION:FLCA Clubhouse
CATEGORIES:FLCA Meetings
END:VEVENT
BEGIN:VEVENT
DTSTART;TZID=America/New_York:20260805T140000
DTEND;TZID=America/New_York:20260805T160000
DTSTAMP:20260419T220358
CREATED:20251224T222555Z
LAST-MODIFIED:20260330T161937Z
UID:10005082-1785938400-1785945600@www.fawnlake-hoa.com
SUMMARY:Fawn Lake Book Club
DESCRIPTION:The Fawn Lake book club generally meets on the 1st Wednesday of the month at 2 PM at the FLCA Clubhouse and maintains the community’s lending library.
URL:https://www.fawnlake-hoa.com/event/fawn-lake-book-club/2026-08-05/
LOCATION:FLCA Clubhouse
CATEGORIES:Clubs & Organizations
END:VEVENT
BEGIN:VEVENT
DTSTART;TZID=America/New_York:20260807T170000
DTEND;TZID=America/New_York:20260807T200000
DTSTAMP:20260419T220358
CREATED:20260330T164757Z
LAST-MODIFIED:20260330T164757Z
UID:10005422-1786122000-1786132800@www.fawnlake-hoa.com
SUMMARY:Baseball Field Reservation
DESCRIPTION:
URL:https://www.fawnlake-hoa.com/event/baseball-field-reservation-2/2026-08-07/
CATEGORIES:Clubs & Organizations
END:VEVENT
END:VCALENDAR