BEGIN:VCALENDAR
VERSION:2.0
PRODID:-//Fawn Lake Community Association - ECPv6.15.20//NONSGML v1.0//EN
CALSCALE:GREGORIAN
METHOD:PUBLISH
X-WR-CALNAME:Fawn Lake Community Association
X-ORIGINAL-URL:https://www.fawnlake-hoa.com
X-WR-CALDESC:Events for Fawn Lake Community Association
REFRESH-INTERVAL;VALUE=DURATION:PT1H
X-Robots-Tag:noindex
X-PUBLISHED-TTL:PT1H
BEGIN:VTIMEZONE
TZID:America/New_York
BEGIN:DAYLIGHT
TZOFFSETFROM:-0500
TZOFFSETTO:-0400
TZNAME:EDT
DTSTART:20250309T070000
END:DAYLIGHT
BEGIN:STANDARD
TZOFFSETFROM:-0400
TZOFFSETTO:-0500
TZNAME:EST
DTSTART:20251102T060000
END:STANDARD
BEGIN:DAYLIGHT
TZOFFSETFROM:-0500
TZOFFSETTO:-0400
TZNAME:EDT
DTSTART:20260308T070000
END:DAYLIGHT
BEGIN:STANDARD
TZOFFSETFROM:-0400
TZOFFSETTO:-0500
TZNAME:EST
DTSTART:20261101T060000
END:STANDARD
BEGIN:DAYLIGHT
TZOFFSETFROM:-0500
TZOFFSETTO:-0400
TZNAME:EDT
DTSTART:20270314T070000
END:DAYLIGHT
BEGIN:STANDARD
TZOFFSETFROM:-0400
TZOFFSETTO:-0500
TZNAME:EST
DTSTART:20271107T060000
END:STANDARD
BEGIN:DAYLIGHT
TZOFFSETFROM:-0500
TZOFFSETTO:-0400
TZNAME:EDT
DTSTART:20280312T070000
END:DAYLIGHT
BEGIN:STANDARD
TZOFFSETFROM:-0400
TZOFFSETTO:-0500
TZNAME:EST
DTSTART:20281105T060000
END:STANDARD
END:VTIMEZONE
BEGIN:VEVENT
DTSTART;TZID=America/New_York:20261224T190000
DTEND;TZID=America/New_York:20261224T200000
DTSTAMP:20260420T002155
CREATED:20260331T194010Z
LAST-MODIFIED:20260331T194154Z
UID:10005841-1798138800-1798142400@www.fawnlake-hoa.com
SUMMARY:Safety Committee Meeting
DESCRIPTION:Meets in the FLCA Clubhouse.
URL:https://www.fawnlake-hoa.com/event/safety-committee-meeting/2026-12-24/
CATEGORIES:FLCA Meetings
END:VEVENT
BEGIN:VEVENT
DTSTART;TZID=America/New_York:20261228T190000
DTEND;TZID=America/New_York:20261228T200000
DTSTAMP:20260420T002155
CREATED:20260306T191855Z
LAST-MODIFIED:20260327T184238Z
UID:10004142-1798484400-1798488000@www.fawnlake-hoa.com
SUMMARY:ARCC (Architectural Review Board) Meeting
DESCRIPTION:VIA Teams Only \nLink: Teams Link \nPhone Number: 1-323-705-3199 \nMeeting ID: 287 849 651 6749 \nPassword: N89eE3Q3 \n 
URL:https://www.fawnlake-hoa.com/event/arcc-2/2026-12-28/
LOCATION:Virtual
CATEGORIES:FLCA Meetings
END:VEVENT
BEGIN:VEVENT
DTSTART;TZID=America/New_York:20270104T150000
DTEND;TZID=America/New_York:20270104T163000
DTSTAMP:20260420T002155
CREATED:20251016T170323Z
LAST-MODIFIED:20260330T152341Z
UID:10005276-1799074800-1799080200@www.fawnlake-hoa.com
SUMMARY:Lake Environment Committee Meeting
DESCRIPTION:
URL:https://www.fawnlake-hoa.com/event/communications-committee/2027-01-04/
LOCATION:Clubhouse Board Room\, 11300 Longstreet Drive\, Spostylvania\, VA\, 22551\, United States
CATEGORIES:FLCA Meetings
END:VEVENT
BEGIN:VEVENT
DTSTART;TZID=America/New_York:20270105T160000
DTEND;TZID=America/New_York:20270105T180000
DTSTAMP:20260420T002155
CREATED:20260413T153419Z
LAST-MODIFIED:20260413T153419Z
UID:10005662-1799164800-1799172000@www.fawnlake-hoa.com
SUMMARY:Finance Committee Meeting
DESCRIPTION:Meets in the FLCA Board Room.
URL:https://www.fawnlake-hoa.com/event/finance-committee-meeting-2/2027-01-05/
LOCATION:FLCA Clubhouse
CATEGORIES:FLCA Meetings
END:VEVENT
BEGIN:VEVENT
DTSTART;TZID=America/New_York:20270111T190000
DTEND;TZID=America/New_York:20270111T200000
DTSTAMP:20260420T002155
CREATED:20260306T191855Z
LAST-MODIFIED:20260327T184238Z
UID:10004143-1799694000-1799697600@www.fawnlake-hoa.com
SUMMARY:ARCC (Architectural Review Board) Meeting
DESCRIPTION:VIA Teams Only \nLink: Teams Link \nPhone Number: 1-323-705-3199 \nMeeting ID: 287 849 651 6749 \nPassword: N89eE3Q3 \n 
URL:https://www.fawnlake-hoa.com/event/arcc-2/2027-01-11/
LOCATION:Virtual
CATEGORIES:FLCA Meetings
END:VEVENT
BEGIN:VEVENT
DTSTART;TZID=America/New_York:20270112T180000
DTEND;TZID=America/New_York:20270112T190000
DTSTAMP:20260420T002155
CREATED:20260414T125633Z
LAST-MODIFIED:20260414T125634Z
UID:10005906-1799776800-1799780400@www.fawnlake-hoa.com
SUMMARY:Commons Committee Meeting
DESCRIPTION:Meets in the FLCA Board Room.
URL:https://www.fawnlake-hoa.com/event/commons-committee-meeting-2/2027-01-12/
CATEGORIES:FLCA Meetings
END:VEVENT
BEGIN:VEVENT
DTSTART;TZID=America/New_York:20270113T180000
DTEND;TZID=America/New_York:20270113T190000
DTSTAMP:20260420T002155
CREATED:20260331T193530Z
LAST-MODIFIED:20260331T193652Z
UID:10005782-1799863200-1799866800@www.fawnlake-hoa.com
SUMMARY:Social Activities Committee Meeting
DESCRIPTION:In-Person and Via Teams. In-person is held at the FCLA HOA Clubhouse Board Room. \nMicrosoft Teams meeting \n\n\nJoin: https://teams.microsoft.com/meet/26999323624554?p=RwwsI31VyGE7TwbC9b \n\n\nMeeting ID: 269 993 236 245 54 \n\n\nPasscode: M6xk9YW6 \n\n\n\n\nNeed help? | System reference \n\nDial in by phone \n\n\n+1 469-480-6674/Phone Passcode: (529749361#) United States\, Dallas
URL:https://www.fawnlake-hoa.com/event/social-activities-committee-meeting-2/2027-01-13/
CATEGORIES:FLCA Meetings
END:VEVENT
BEGIN:VEVENT
DTSTART;TZID=America/New_York:20270114T180000
DTEND;TZID=America/New_York:20270114T190000
DTSTAMP:20260420T002155
CREATED:20260331T191703Z
LAST-MODIFIED:20260409T134300Z
UID:10005602-1799949600-1799953200@www.fawnlake-hoa.com
SUMMARY:Communications Committee Meeting
DESCRIPTION:Meets at the FLCA Clubhouse.
URL:https://www.fawnlake-hoa.com/event/communications-committee-meeting/2027-01-14/
CATEGORIES:FLCA Meetings
END:VEVENT
BEGIN:VEVENT
DTSTART;TZID=America/New_York:20270119T180000
DTEND;TZID=America/New_York:20270119T190000
DTSTAMP:20260420T002155
CREATED:20260330T142516Z
LAST-MODIFIED:20260331T190955Z
UID:10005542-1800381600-1800385200@www.fawnlake-hoa.com
SUMMARY:Lake Usage Committee Meeting
DESCRIPTION:Meeting located in Board Room.
URL:https://www.fawnlake-hoa.com/event/lake-usage-3/2027-01-19/
LOCATION:Clubhouse Board Room\, 11300 Longstreet Drive\, Spostylvania\, VA\, 22551\, United States
CATEGORIES:FLCA Meetings
ATTACH;FMTTYPE=image/png:https://www.fawnlake-hoa.com/wp-content/uploads/2025/10/PAWS.png
END:VEVENT
BEGIN:VEVENT
DTSTART;TZID=America/New_York:20270125T190000
DTEND;TZID=America/New_York:20270125T200000
DTSTAMP:20260420T002155
CREATED:20260306T191855Z
LAST-MODIFIED:20260327T184238Z
UID:10004144-1800903600-1800907200@www.fawnlake-hoa.com
SUMMARY:ARCC (Architectural Review Board) Meeting
DESCRIPTION:VIA Teams Only \nLink: Teams Link \nPhone Number: 1-323-705-3199 \nMeeting ID: 287 849 651 6749 \nPassword: N89eE3Q3 \n 
URL:https://www.fawnlake-hoa.com/event/arcc-2/2027-01-25/
LOCATION:Virtual
CATEGORIES:FLCA Meetings
END:VEVENT
BEGIN:VEVENT
DTSTART;TZID=America/New_York:20270127T170000
DTEND;TZID=America/New_York:20270127T220000
DTSTAMP:20260420T002155
CREATED:20251016T172854Z
LAST-MODIFIED:20260327T184651Z
UID:10004338-1801069200-1801087200@www.fawnlake-hoa.com
SUMMARY:Board of Directors Meeting
DESCRIPTION:Executive Session: 5:00 pm| Open Session: 6:30pm
URL:https://www.fawnlake-hoa.com/event/board-of-directors-meeting/2027-01-27/
LOCATION:Clubhouse Board Room\, 11300 Longstreet Drive\, Spostylvania\, VA\, 22551\, United States
CATEGORIES:FLCA Meetings
END:VEVENT
BEGIN:VEVENT
DTSTART;TZID=America/New_York:20270128T190000
DTEND;TZID=America/New_York:20270128T200000
DTSTAMP:20260420T002155
CREATED:20260331T194010Z
LAST-MODIFIED:20260331T194154Z
UID:10005842-1801162800-1801166400@www.fawnlake-hoa.com
SUMMARY:Safety Committee Meeting
DESCRIPTION:Meets in the FLCA Clubhouse.
URL:https://www.fawnlake-hoa.com/event/safety-committee-meeting/2027-01-28/
CATEGORIES:FLCA Meetings
END:VEVENT
BEGIN:VEVENT
DTSTART;TZID=America/New_York:20270201T150000
DTEND;TZID=America/New_York:20270201T163000
DTSTAMP:20260420T002155
CREATED:20251016T170323Z
LAST-MODIFIED:20260330T152341Z
UID:10005277-1801494000-1801499400@www.fawnlake-hoa.com
SUMMARY:Lake Environment Committee Meeting
DESCRIPTION:
URL:https://www.fawnlake-hoa.com/event/communications-committee/2027-02-01/
LOCATION:Clubhouse Board Room\, 11300 Longstreet Drive\, Spostylvania\, VA\, 22551\, United States
CATEGORIES:FLCA Meetings
END:VEVENT
BEGIN:VEVENT
DTSTART;TZID=America/New_York:20270202T160000
DTEND;TZID=America/New_York:20270202T180000
DTSTAMP:20260420T002155
CREATED:20260413T153419Z
LAST-MODIFIED:20260413T153419Z
UID:10005663-1801584000-1801591200@www.fawnlake-hoa.com
SUMMARY:Finance Committee Meeting
DESCRIPTION:Meets in the FLCA Board Room.
URL:https://www.fawnlake-hoa.com/event/finance-committee-meeting-2/2027-02-02/
LOCATION:FLCA Clubhouse
CATEGORIES:FLCA Meetings
END:VEVENT
BEGIN:VEVENT
DTSTART;TZID=America/New_York:20270208T190000
DTEND;TZID=America/New_York:20270208T200000
DTSTAMP:20260420T002155
CREATED:20260306T191855Z
LAST-MODIFIED:20260327T184238Z
UID:10004145-1802113200-1802116800@www.fawnlake-hoa.com
SUMMARY:ARCC (Architectural Review Board) Meeting
DESCRIPTION:VIA Teams Only \nLink: Teams Link \nPhone Number: 1-323-705-3199 \nMeeting ID: 287 849 651 6749 \nPassword: N89eE3Q3 \n 
URL:https://www.fawnlake-hoa.com/event/arcc-2/2027-02-08/
LOCATION:Virtual
CATEGORIES:FLCA Meetings
END:VEVENT
BEGIN:VEVENT
DTSTART;TZID=America/New_York:20270209T180000
DTEND;TZID=America/New_York:20270209T190000
DTSTAMP:20260420T002155
CREATED:20260414T125633Z
LAST-MODIFIED:20260414T125634Z
UID:10005907-1802196000-1802199600@www.fawnlake-hoa.com
SUMMARY:Commons Committee Meeting
DESCRIPTION:Meets in the FLCA Board Room.
URL:https://www.fawnlake-hoa.com/event/commons-committee-meeting-2/2027-02-09/
CATEGORIES:FLCA Meetings
END:VEVENT
BEGIN:VEVENT
DTSTART;TZID=America/New_York:20270210T180000
DTEND;TZID=America/New_York:20270210T190000
DTSTAMP:20260420T002155
CREATED:20260331T193530Z
LAST-MODIFIED:20260331T193652Z
UID:10005783-1802282400-1802286000@www.fawnlake-hoa.com
SUMMARY:Social Activities Committee Meeting
DESCRIPTION:In-Person and Via Teams. In-person is held at the FCLA HOA Clubhouse Board Room. \nMicrosoft Teams meeting \n\n\nJoin: https://teams.microsoft.com/meet/26999323624554?p=RwwsI31VyGE7TwbC9b \n\n\nMeeting ID: 269 993 236 245 54 \n\n\nPasscode: M6xk9YW6 \n\n\n\n\nNeed help? | System reference \n\nDial in by phone \n\n\n+1 469-480-6674/Phone Passcode: (529749361#) United States\, Dallas
URL:https://www.fawnlake-hoa.com/event/social-activities-committee-meeting-2/2027-02-10/
CATEGORIES:FLCA Meetings
END:VEVENT
BEGIN:VEVENT
DTSTART;TZID=America/New_York:20270211T180000
DTEND;TZID=America/New_York:20270211T190000
DTSTAMP:20260420T002155
CREATED:20260331T191703Z
LAST-MODIFIED:20260409T134300Z
UID:10005603-1802368800-1802372400@www.fawnlake-hoa.com
SUMMARY:Communications Committee Meeting
DESCRIPTION:Meets at the FLCA Clubhouse.
URL:https://www.fawnlake-hoa.com/event/communications-committee-meeting/2027-02-11/
CATEGORIES:FLCA Meetings
END:VEVENT
BEGIN:VEVENT
DTSTART;TZID=America/New_York:20270216T180000
DTEND;TZID=America/New_York:20270216T190000
DTSTAMP:20260420T002155
CREATED:20260330T142516Z
LAST-MODIFIED:20260331T190955Z
UID:10005543-1802800800-1802804400@www.fawnlake-hoa.com
SUMMARY:Lake Usage Committee Meeting
DESCRIPTION:Meeting located in Board Room.
URL:https://www.fawnlake-hoa.com/event/lake-usage-3/2027-02-16/
LOCATION:Clubhouse Board Room\, 11300 Longstreet Drive\, Spostylvania\, VA\, 22551\, United States
CATEGORIES:FLCA Meetings
ATTACH;FMTTYPE=image/png:https://www.fawnlake-hoa.com/wp-content/uploads/2025/10/PAWS.png
END:VEVENT
BEGIN:VEVENT
DTSTART;TZID=America/New_York:20270222T190000
DTEND;TZID=America/New_York:20270222T200000
DTSTAMP:20260420T002155
CREATED:20260306T191855Z
LAST-MODIFIED:20260327T184238Z
UID:10004146-1803322800-1803326400@www.fawnlake-hoa.com
SUMMARY:ARCC (Architectural Review Board) Meeting
DESCRIPTION:VIA Teams Only \nLink: Teams Link \nPhone Number: 1-323-705-3199 \nMeeting ID: 287 849 651 6749 \nPassword: N89eE3Q3 \n 
URL:https://www.fawnlake-hoa.com/event/arcc-2/2027-02-22/
LOCATION:Virtual
CATEGORIES:FLCA Meetings
END:VEVENT
BEGIN:VEVENT
DTSTART;TZID=America/New_York:20270224T170000
DTEND;TZID=America/New_York:20270224T220000
DTSTAMP:20260420T002155
CREATED:20251016T172854Z
LAST-MODIFIED:20260327T184651Z
UID:10004339-1803488400-1803506400@www.fawnlake-hoa.com
SUMMARY:Board of Directors Meeting
DESCRIPTION:Executive Session: 5:00 pm| Open Session: 6:30pm
URL:https://www.fawnlake-hoa.com/event/board-of-directors-meeting/2027-02-24/
LOCATION:Clubhouse Board Room\, 11300 Longstreet Drive\, Spostylvania\, VA\, 22551\, United States
CATEGORIES:FLCA Meetings
END:VEVENT
BEGIN:VEVENT
DTSTART;TZID=America/New_York:20270225T190000
DTEND;TZID=America/New_York:20270225T200000
DTSTAMP:20260420T002155
CREATED:20260331T194010Z
LAST-MODIFIED:20260331T194154Z
UID:10005843-1803582000-1803585600@www.fawnlake-hoa.com
SUMMARY:Safety Committee Meeting
DESCRIPTION:Meets in the FLCA Clubhouse.
URL:https://www.fawnlake-hoa.com/event/safety-committee-meeting/2027-02-25/
CATEGORIES:FLCA Meetings
END:VEVENT
BEGIN:VEVENT
DTSTART;TZID=America/New_York:20270301T150000
DTEND;TZID=America/New_York:20270301T163000
DTSTAMP:20260420T002155
CREATED:20251016T170323Z
LAST-MODIFIED:20260330T152341Z
UID:10005278-1803913200-1803918600@www.fawnlake-hoa.com
SUMMARY:Lake Environment Committee Meeting
DESCRIPTION:
URL:https://www.fawnlake-hoa.com/event/communications-committee/2027-03-01/
LOCATION:Clubhouse Board Room\, 11300 Longstreet Drive\, Spostylvania\, VA\, 22551\, United States
CATEGORIES:FLCA Meetings
END:VEVENT
BEGIN:VEVENT
DTSTART;TZID=America/New_York:20270302T160000
DTEND;TZID=America/New_York:20270302T180000
DTSTAMP:20260420T002155
CREATED:20260413T153419Z
LAST-MODIFIED:20260413T153419Z
UID:10005664-1804003200-1804010400@www.fawnlake-hoa.com
SUMMARY:Finance Committee Meeting
DESCRIPTION:Meets in the FLCA Board Room.
URL:https://www.fawnlake-hoa.com/event/finance-committee-meeting-2/2027-03-02/
LOCATION:FLCA Clubhouse
CATEGORIES:FLCA Meetings
END:VEVENT
BEGIN:VEVENT
DTSTART;TZID=America/New_York:20270308T190000
DTEND;TZID=America/New_York:20270308T200000
DTSTAMP:20260420T002155
CREATED:20260306T191855Z
LAST-MODIFIED:20260327T184238Z
UID:10004147-1804532400-1804536000@www.fawnlake-hoa.com
SUMMARY:ARCC (Architectural Review Board) Meeting
DESCRIPTION:VIA Teams Only \nLink: Teams Link \nPhone Number: 1-323-705-3199 \nMeeting ID: 287 849 651 6749 \nPassword: N89eE3Q3 \n 
URL:https://www.fawnlake-hoa.com/event/arcc-2/2027-03-08/
LOCATION:Virtual
CATEGORIES:FLCA Meetings
END:VEVENT
BEGIN:VEVENT
DTSTART;TZID=America/New_York:20270309T180000
DTEND;TZID=America/New_York:20270309T190000
DTSTAMP:20260420T002155
CREATED:20260414T125633Z
LAST-MODIFIED:20260414T125634Z
UID:10005908-1804615200-1804618800@www.fawnlake-hoa.com
SUMMARY:Commons Committee Meeting
DESCRIPTION:Meets in the FLCA Board Room.
URL:https://www.fawnlake-hoa.com/event/commons-committee-meeting-2/2027-03-09/
CATEGORIES:FLCA Meetings
END:VEVENT
BEGIN:VEVENT
DTSTART;TZID=America/New_York:20270310T180000
DTEND;TZID=America/New_York:20270310T190000
DTSTAMP:20260420T002155
CREATED:20260331T193530Z
LAST-MODIFIED:20260331T193652Z
UID:10005784-1804701600-1804705200@www.fawnlake-hoa.com
SUMMARY:Social Activities Committee Meeting
DESCRIPTION:In-Person and Via Teams. In-person is held at the FCLA HOA Clubhouse Board Room. \nMicrosoft Teams meeting \n\n\nJoin: https://teams.microsoft.com/meet/26999323624554?p=RwwsI31VyGE7TwbC9b \n\n\nMeeting ID: 269 993 236 245 54 \n\n\nPasscode: M6xk9YW6 \n\n\n\n\nNeed help? | System reference \n\nDial in by phone \n\n\n+1 469-480-6674/Phone Passcode: (529749361#) United States\, Dallas
URL:https://www.fawnlake-hoa.com/event/social-activities-committee-meeting-2/2027-03-10/
CATEGORIES:FLCA Meetings
END:VEVENT
BEGIN:VEVENT
DTSTART;TZID=America/New_York:20270311T180000
DTEND;TZID=America/New_York:20270311T190000
DTSTAMP:20260420T002155
CREATED:20260331T191703Z
LAST-MODIFIED:20260409T134300Z
UID:10005604-1804788000-1804791600@www.fawnlake-hoa.com
SUMMARY:Communications Committee Meeting
DESCRIPTION:Meets at the FLCA Clubhouse.
URL:https://www.fawnlake-hoa.com/event/communications-committee-meeting/2027-03-11/
CATEGORIES:FLCA Meetings
END:VEVENT
BEGIN:VEVENT
DTSTART;TZID=America/New_York:20270316T180000
DTEND;TZID=America/New_York:20270316T190000
DTSTAMP:20260420T002155
CREATED:20260330T142516Z
LAST-MODIFIED:20260331T190955Z
UID:10005544-1805220000-1805223600@www.fawnlake-hoa.com
SUMMARY:Lake Usage Committee Meeting
DESCRIPTION:Meeting located in Board Room.
URL:https://www.fawnlake-hoa.com/event/lake-usage-3/2027-03-16/
LOCATION:Clubhouse Board Room\, 11300 Longstreet Drive\, Spostylvania\, VA\, 22551\, United States
CATEGORIES:FLCA Meetings
ATTACH;FMTTYPE=image/png:https://www.fawnlake-hoa.com/wp-content/uploads/2025/10/PAWS.png
END:VEVENT
BEGIN:VEVENT
DTSTART;TZID=America/New_York:20270322T190000
DTEND;TZID=America/New_York:20270322T200000
DTSTAMP:20260420T002155
CREATED:20260306T191855Z
LAST-MODIFIED:20260327T184238Z
UID:10004148-1805742000-1805745600@www.fawnlake-hoa.com
SUMMARY:ARCC (Architectural Review Board) Meeting
DESCRIPTION:VIA Teams Only \nLink: Teams Link \nPhone Number: 1-323-705-3199 \nMeeting ID: 287 849 651 6749 \nPassword: N89eE3Q3 \n 
URL:https://www.fawnlake-hoa.com/event/arcc-2/2027-03-22/
LOCATION:Virtual
CATEGORIES:FLCA Meetings
END:VEVENT
END:VCALENDAR