BEGIN:VCALENDAR
VERSION:2.0
PRODID:-//Fawn Lake Community Association - ECPv6.15.20//NONSGML v1.0//EN
CALSCALE:GREGORIAN
METHOD:PUBLISH
X-ORIGINAL-URL:https://www.fawnlake-hoa.com
X-WR-CALDESC:Events for Fawn Lake Community Association
REFRESH-INTERVAL;VALUE=DURATION:PT1H
X-Robots-Tag:noindex
X-PUBLISHED-TTL:PT1H
BEGIN:VTIMEZONE
TZID:America/New_York
BEGIN:DAYLIGHT
TZOFFSETFROM:-0500
TZOFFSETTO:-0400
TZNAME:EDT
DTSTART:20250309T070000
END:DAYLIGHT
BEGIN:STANDARD
TZOFFSETFROM:-0400
TZOFFSETTO:-0500
TZNAME:EST
DTSTART:20251102T060000
END:STANDARD
BEGIN:DAYLIGHT
TZOFFSETFROM:-0500
TZOFFSETTO:-0400
TZNAME:EDT
DTSTART:20260308T070000
END:DAYLIGHT
BEGIN:STANDARD
TZOFFSETFROM:-0400
TZOFFSETTO:-0500
TZNAME:EST
DTSTART:20261101T060000
END:STANDARD
BEGIN:DAYLIGHT
TZOFFSETFROM:-0500
TZOFFSETTO:-0400
TZNAME:EDT
DTSTART:20270314T070000
END:DAYLIGHT
BEGIN:STANDARD
TZOFFSETFROM:-0400
TZOFFSETTO:-0500
TZNAME:EST
DTSTART:20271107T060000
END:STANDARD
END:VTIMEZONE
BEGIN:VEVENT
DTSTART;TZID=America/New_York:20260629T190000
DTEND;TZID=America/New_York:20260629T200000
DTSTAMP:20260419T140914
CREATED:20260306T191855Z
LAST-MODIFIED:20260327T184238Z
UID:10004129-1782759600-1782763200@www.fawnlake-hoa.com
SUMMARY:ARCC (Architectural Review Board) Meeting
DESCRIPTION:VIA Teams Only \nLink: Teams Link \nPhone Number: 1-323-705-3199 \nMeeting ID: 287 849 651 6749 \nPassword: N89eE3Q3 \n 
URL:https://www.fawnlake-hoa.com/event/arcc-2/2026-06-29/
LOCATION:Virtual
CATEGORIES:FLCA Meetings
END:VEVENT
BEGIN:VEVENT
DTSTART;TZID=America/New_York:20260706T150000
DTEND;TZID=America/New_York:20260706T163000
DTSTAMP:20260419T140914
CREATED:20251016T170323Z
LAST-MODIFIED:20260330T152341Z
UID:10005270-1783350000-1783355400@www.fawnlake-hoa.com
SUMMARY:Lake Environment Committee Meeting
DESCRIPTION:
URL:https://www.fawnlake-hoa.com/event/communications-committee/2026-07-06/
LOCATION:Clubhouse Board Room\, 11300 Longstreet Drive\, Spostylvania\, VA\, 22551\, United States
CATEGORIES:FLCA Meetings
END:VEVENT
BEGIN:VEVENT
DTSTART;TZID=America/New_York:20260707T160000
DTEND;TZID=America/New_York:20260707T180000
DTSTAMP:20260419T140914
CREATED:20260413T153419Z
LAST-MODIFIED:20260413T153419Z
UID:10005656-1783440000-1783447200@www.fawnlake-hoa.com
SUMMARY:Finance Committee Meeting
DESCRIPTION:Meets in the FLCA Board Room.
URL:https://www.fawnlake-hoa.com/event/finance-committee-meeting-2/2026-07-07/
LOCATION:FLCA Clubhouse
CATEGORIES:FLCA Meetings
END:VEVENT
BEGIN:VEVENT
DTSTART;TZID=America/New_York:20260708T180000
DTEND;TZID=America/New_York:20260708T190000
DTSTAMP:20260419T140914
CREATED:20260331T193530Z
LAST-MODIFIED:20260331T193652Z
UID:10005776-1783533600-1783537200@www.fawnlake-hoa.com
SUMMARY:Social Activities Committee Meeting
DESCRIPTION:In-Person and Via Teams. In-person is held at the FCLA HOA Clubhouse Board Room. \nMicrosoft Teams meeting \n\n\nJoin: https://teams.microsoft.com/meet/26999323624554?p=RwwsI31VyGE7TwbC9b \n\n\nMeeting ID: 269 993 236 245 54 \n\n\nPasscode: M6xk9YW6 \n\n\n\n\nNeed help? | System reference \n\nDial in by phone \n\n\n+1 469-480-6674/Phone Passcode: (529749361#) United States\, Dallas
URL:https://www.fawnlake-hoa.com/event/social-activities-committee-meeting-2/2026-07-08/
CATEGORIES:FLCA Meetings
END:VEVENT
BEGIN:VEVENT
DTSTART;TZID=America/New_York:20260709T180000
DTEND;TZID=America/New_York:20260709T190000
DTSTAMP:20260419T140914
CREATED:20260331T191703Z
LAST-MODIFIED:20260409T134300Z
UID:10005596-1783620000-1783623600@www.fawnlake-hoa.com
SUMMARY:Communications Committee Meeting
DESCRIPTION:Meets at the FLCA Clubhouse.
URL:https://www.fawnlake-hoa.com/event/communications-committee-meeting/2026-07-09/
CATEGORIES:FLCA Meetings
END:VEVENT
BEGIN:VEVENT
DTSTART;TZID=America/New_York:20260713T190000
DTEND;TZID=America/New_York:20260713T200000
DTSTAMP:20260419T140914
CREATED:20260306T191855Z
LAST-MODIFIED:20260327T184238Z
UID:10004130-1783969200-1783972800@www.fawnlake-hoa.com
SUMMARY:ARCC (Architectural Review Board) Meeting
DESCRIPTION:VIA Teams Only \nLink: Teams Link \nPhone Number: 1-323-705-3199 \nMeeting ID: 287 849 651 6749 \nPassword: N89eE3Q3 \n 
URL:https://www.fawnlake-hoa.com/event/arcc-2/2026-07-13/
LOCATION:Virtual
CATEGORIES:FLCA Meetings
END:VEVENT
BEGIN:VEVENT
DTSTART;TZID=America/New_York:20260714T180000
DTEND;TZID=America/New_York:20260714T190000
DTSTAMP:20260419T140914
CREATED:20260414T125633Z
LAST-MODIFIED:20260414T125634Z
UID:10005900-1784052000-1784055600@www.fawnlake-hoa.com
SUMMARY:Commons Committee Meeting
DESCRIPTION:Meets in the FLCA Board Room.
URL:https://www.fawnlake-hoa.com/event/commons-committee-meeting-2/2026-07-14/
CATEGORIES:FLCA Meetings
END:VEVENT
BEGIN:VEVENT
DTSTART;TZID=America/New_York:20260721T180000
DTEND;TZID=America/New_York:20260721T190000
DTSTAMP:20260419T140914
CREATED:20260330T142516Z
LAST-MODIFIED:20260331T190955Z
UID:10005536-1784656800-1784660400@www.fawnlake-hoa.com
SUMMARY:Lake Usage Committee Meeting
DESCRIPTION:Meeting located in Board Room.
URL:https://www.fawnlake-hoa.com/event/lake-usage-3/2026-07-21/
LOCATION:Clubhouse Board Room\, 11300 Longstreet Drive\, Spostylvania\, VA\, 22551\, United States
CATEGORIES:FLCA Meetings
ATTACH;FMTTYPE=image/png:https://www.fawnlake-hoa.com/wp-content/uploads/2025/10/PAWS.png
END:VEVENT
BEGIN:VEVENT
DTSTART;TZID=America/New_York:20260722T170000
DTEND;TZID=America/New_York:20260722T220000
DTSTAMP:20260419T140914
CREATED:20251016T172854Z
LAST-MODIFIED:20260327T184651Z
UID:10004332-1784739600-1784757600@www.fawnlake-hoa.com
SUMMARY:Board of Directors Meeting
DESCRIPTION:Executive Session: 5:00 pm| Open Session: 6:30pm
URL:https://www.fawnlake-hoa.com/event/board-of-directors-meeting/2026-07-22/
LOCATION:Clubhouse Board Room\, 11300 Longstreet Drive\, Spostylvania\, VA\, 22551\, United States
CATEGORIES:FLCA Meetings
END:VEVENT
BEGIN:VEVENT
DTSTART;TZID=America/New_York:20260723T190000
DTEND;TZID=America/New_York:20260723T200000
DTSTAMP:20260419T140914
CREATED:20260331T194010Z
LAST-MODIFIED:20260331T194154Z
UID:10005836-1784833200-1784836800@www.fawnlake-hoa.com
SUMMARY:Safety Committee Meeting
DESCRIPTION:Meets in the FLCA Clubhouse.
URL:https://www.fawnlake-hoa.com/event/safety-committee-meeting/2026-07-23/
CATEGORIES:FLCA Meetings
END:VEVENT
BEGIN:VEVENT
DTSTART;TZID=America/New_York:20260727T190000
DTEND;TZID=America/New_York:20260727T200000
DTSTAMP:20260419T140914
CREATED:20260306T191855Z
LAST-MODIFIED:20260327T184238Z
UID:10004131-1785178800-1785182400@www.fawnlake-hoa.com
SUMMARY:ARCC (Architectural Review Board) Meeting
DESCRIPTION:VIA Teams Only \nLink: Teams Link \nPhone Number: 1-323-705-3199 \nMeeting ID: 287 849 651 6749 \nPassword: N89eE3Q3 \n 
URL:https://www.fawnlake-hoa.com/event/arcc-2/2026-07-27/
LOCATION:Virtual
CATEGORIES:FLCA Meetings
END:VEVENT
BEGIN:VEVENT
DTSTART;TZID=America/New_York:20260803T150000
DTEND;TZID=America/New_York:20260803T163000
DTSTAMP:20260419T140914
CREATED:20251016T170323Z
LAST-MODIFIED:20260330T152341Z
UID:10005271-1785769200-1785774600@www.fawnlake-hoa.com
SUMMARY:Lake Environment Committee Meeting
DESCRIPTION:
URL:https://www.fawnlake-hoa.com/event/communications-committee/2026-08-03/
LOCATION:Clubhouse Board Room\, 11300 Longstreet Drive\, Spostylvania\, VA\, 22551\, United States
CATEGORIES:FLCA Meetings
END:VEVENT
BEGIN:VEVENT
DTSTART;TZID=America/New_York:20260804T160000
DTEND;TZID=America/New_York:20260804T180000
DTSTAMP:20260419T140914
CREATED:20260413T153419Z
LAST-MODIFIED:20260413T153419Z
UID:10005657-1785859200-1785866400@www.fawnlake-hoa.com
SUMMARY:Finance Committee Meeting
DESCRIPTION:Meets in the FLCA Board Room.
URL:https://www.fawnlake-hoa.com/event/finance-committee-meeting-2/2026-08-04/
LOCATION:FLCA Clubhouse
CATEGORIES:FLCA Meetings
END:VEVENT
BEGIN:VEVENT
DTSTART;TZID=America/New_York:20260810T190000
DTEND;TZID=America/New_York:20260810T200000
DTSTAMP:20260419T140914
CREATED:20260306T191855Z
LAST-MODIFIED:20260327T184238Z
UID:10004132-1786388400-1786392000@www.fawnlake-hoa.com
SUMMARY:ARCC (Architectural Review Board) Meeting
DESCRIPTION:VIA Teams Only \nLink: Teams Link \nPhone Number: 1-323-705-3199 \nMeeting ID: 287 849 651 6749 \nPassword: N89eE3Q3 \n 
URL:https://www.fawnlake-hoa.com/event/arcc-2/2026-08-10/
LOCATION:Virtual
CATEGORIES:FLCA Meetings
END:VEVENT
BEGIN:VEVENT
DTSTART;TZID=America/New_York:20260811T180000
DTEND;TZID=America/New_York:20260811T190000
DTSTAMP:20260419T140914
CREATED:20260414T125633Z
LAST-MODIFIED:20260414T125634Z
UID:10005901-1786471200-1786474800@www.fawnlake-hoa.com
SUMMARY:Commons Committee Meeting
DESCRIPTION:Meets in the FLCA Board Room.
URL:https://www.fawnlake-hoa.com/event/commons-committee-meeting-2/2026-08-11/
CATEGORIES:FLCA Meetings
END:VEVENT
BEGIN:VEVENT
DTSTART;TZID=America/New_York:20260812T180000
DTEND;TZID=America/New_York:20260812T190000
DTSTAMP:20260419T140914
CREATED:20260331T193530Z
LAST-MODIFIED:20260331T193652Z
UID:10005777-1786557600-1786561200@www.fawnlake-hoa.com
SUMMARY:Social Activities Committee Meeting
DESCRIPTION:In-Person and Via Teams. In-person is held at the FCLA HOA Clubhouse Board Room. \nMicrosoft Teams meeting \n\n\nJoin: https://teams.microsoft.com/meet/26999323624554?p=RwwsI31VyGE7TwbC9b \n\n\nMeeting ID: 269 993 236 245 54 \n\n\nPasscode: M6xk9YW6 \n\n\n\n\nNeed help? | System reference \n\nDial in by phone \n\n\n+1 469-480-6674/Phone Passcode: (529749361#) United States\, Dallas
URL:https://www.fawnlake-hoa.com/event/social-activities-committee-meeting-2/2026-08-12/
CATEGORIES:FLCA Meetings
END:VEVENT
BEGIN:VEVENT
DTSTART;TZID=America/New_York:20260813T180000
DTEND;TZID=America/New_York:20260813T190000
DTSTAMP:20260419T140914
CREATED:20260331T191703Z
LAST-MODIFIED:20260409T134300Z
UID:10005597-1786644000-1786647600@www.fawnlake-hoa.com
SUMMARY:Communications Committee Meeting
DESCRIPTION:Meets at the FLCA Clubhouse.
URL:https://www.fawnlake-hoa.com/event/communications-committee-meeting/2026-08-13/
CATEGORIES:FLCA Meetings
END:VEVENT
BEGIN:VEVENT
DTSTART;TZID=America/New_York:20260818T180000
DTEND;TZID=America/New_York:20260818T190000
DTSTAMP:20260419T140914
CREATED:20260330T142516Z
LAST-MODIFIED:20260331T190955Z
UID:10005537-1787076000-1787079600@www.fawnlake-hoa.com
SUMMARY:Lake Usage Committee Meeting
DESCRIPTION:Meeting located in Board Room.
URL:https://www.fawnlake-hoa.com/event/lake-usage-3/2026-08-18/
LOCATION:Clubhouse Board Room\, 11300 Longstreet Drive\, Spostylvania\, VA\, 22551\, United States
CATEGORIES:FLCA Meetings
ATTACH;FMTTYPE=image/png:https://www.fawnlake-hoa.com/wp-content/uploads/2025/10/PAWS.png
END:VEVENT
BEGIN:VEVENT
DTSTART;TZID=America/New_York:20260824T190000
DTEND;TZID=America/New_York:20260824T200000
DTSTAMP:20260419T140914
CREATED:20260306T191855Z
LAST-MODIFIED:20260327T184238Z
UID:10004133-1787598000-1787601600@www.fawnlake-hoa.com
SUMMARY:ARCC (Architectural Review Board) Meeting
DESCRIPTION:VIA Teams Only \nLink: Teams Link \nPhone Number: 1-323-705-3199 \nMeeting ID: 287 849 651 6749 \nPassword: N89eE3Q3 \n 
URL:https://www.fawnlake-hoa.com/event/arcc-2/2026-08-24/
LOCATION:Virtual
CATEGORIES:FLCA Meetings
END:VEVENT
BEGIN:VEVENT
DTSTART;TZID=America/New_York:20260826T170000
DTEND;TZID=America/New_York:20260826T220000
DTSTAMP:20260419T140914
CREATED:20251016T172854Z
LAST-MODIFIED:20260327T184651Z
UID:10004333-1787763600-1787781600@www.fawnlake-hoa.com
SUMMARY:Board of Directors Meeting
DESCRIPTION:Executive Session: 5:00 pm| Open Session: 6:30pm
URL:https://www.fawnlake-hoa.com/event/board-of-directors-meeting/2026-08-26/
LOCATION:Clubhouse Board Room\, 11300 Longstreet Drive\, Spostylvania\, VA\, 22551\, United States
CATEGORIES:FLCA Meetings
END:VEVENT
BEGIN:VEVENT
DTSTART;TZID=America/New_York:20260827T190000
DTEND;TZID=America/New_York:20260827T200000
DTSTAMP:20260419T140914
CREATED:20260331T194010Z
LAST-MODIFIED:20260331T194154Z
UID:10005837-1787857200-1787860800@www.fawnlake-hoa.com
SUMMARY:Safety Committee Meeting
DESCRIPTION:Meets in the FLCA Clubhouse.
URL:https://www.fawnlake-hoa.com/event/safety-committee-meeting/2026-08-27/
CATEGORIES:FLCA Meetings
END:VEVENT
BEGIN:VEVENT
DTSTART;TZID=America/New_York:20260901T160000
DTEND;TZID=America/New_York:20260901T180000
DTSTAMP:20260419T140914
CREATED:20260413T153419Z
LAST-MODIFIED:20260413T153419Z
UID:10005658-1788278400-1788285600@www.fawnlake-hoa.com
SUMMARY:Finance Committee Meeting
DESCRIPTION:Meets in the FLCA Board Room.
URL:https://www.fawnlake-hoa.com/event/finance-committee-meeting-2/2026-09-01/
LOCATION:FLCA Clubhouse
CATEGORIES:FLCA Meetings
END:VEVENT
BEGIN:VEVENT
DTSTART;TZID=America/New_York:20260907T150000
DTEND;TZID=America/New_York:20260907T163000
DTSTAMP:20260419T140914
CREATED:20251016T170323Z
LAST-MODIFIED:20260330T152341Z
UID:10005272-1788793200-1788798600@www.fawnlake-hoa.com
SUMMARY:Lake Environment Committee Meeting
DESCRIPTION:
URL:https://www.fawnlake-hoa.com/event/communications-committee/2026-09-07/
LOCATION:Clubhouse Board Room\, 11300 Longstreet Drive\, Spostylvania\, VA\, 22551\, United States
CATEGORIES:FLCA Meetings
END:VEVENT
BEGIN:VEVENT
DTSTART;TZID=America/New_York:20260907T190000
DTEND;TZID=America/New_York:20260907T200000
DTSTAMP:20260419T140914
CREATED:20260306T191855Z
LAST-MODIFIED:20260327T184238Z
UID:10004134-1788807600-1788811200@www.fawnlake-hoa.com
SUMMARY:ARCC (Architectural Review Board) Meeting
DESCRIPTION:VIA Teams Only \nLink: Teams Link \nPhone Number: 1-323-705-3199 \nMeeting ID: 287 849 651 6749 \nPassword: N89eE3Q3 \n 
URL:https://www.fawnlake-hoa.com/event/arcc-2/2026-09-07/
LOCATION:Virtual
CATEGORIES:FLCA Meetings
END:VEVENT
BEGIN:VEVENT
DTSTART;TZID=America/New_York:20260908T180000
DTEND;TZID=America/New_York:20260908T190000
DTSTAMP:20260419T140914
CREATED:20260414T125633Z
LAST-MODIFIED:20260414T125634Z
UID:10005902-1788890400-1788894000@www.fawnlake-hoa.com
SUMMARY:Commons Committee Meeting
DESCRIPTION:Meets in the FLCA Board Room.
URL:https://www.fawnlake-hoa.com/event/commons-committee-meeting-2/2026-09-08/
CATEGORIES:FLCA Meetings
END:VEVENT
BEGIN:VEVENT
DTSTART;TZID=America/New_York:20260909T180000
DTEND;TZID=America/New_York:20260909T190000
DTSTAMP:20260419T140914
CREATED:20260331T193530Z
LAST-MODIFIED:20260331T193652Z
UID:10005778-1788976800-1788980400@www.fawnlake-hoa.com
SUMMARY:Social Activities Committee Meeting
DESCRIPTION:In-Person and Via Teams. In-person is held at the FCLA HOA Clubhouse Board Room. \nMicrosoft Teams meeting \n\n\nJoin: https://teams.microsoft.com/meet/26999323624554?p=RwwsI31VyGE7TwbC9b \n\n\nMeeting ID: 269 993 236 245 54 \n\n\nPasscode: M6xk9YW6 \n\n\n\n\nNeed help? | System reference \n\nDial in by phone \n\n\n+1 469-480-6674/Phone Passcode: (529749361#) United States\, Dallas
URL:https://www.fawnlake-hoa.com/event/social-activities-committee-meeting-2/2026-09-09/
CATEGORIES:FLCA Meetings
END:VEVENT
BEGIN:VEVENT
DTSTART;TZID=America/New_York:20260910T180000
DTEND;TZID=America/New_York:20260910T190000
DTSTAMP:20260419T140914
CREATED:20260331T191703Z
LAST-MODIFIED:20260409T134300Z
UID:10005598-1789063200-1789066800@www.fawnlake-hoa.com
SUMMARY:Communications Committee Meeting
DESCRIPTION:Meets at the FLCA Clubhouse.
URL:https://www.fawnlake-hoa.com/event/communications-committee-meeting/2026-09-10/
CATEGORIES:FLCA Meetings
END:VEVENT
BEGIN:VEVENT
DTSTART;TZID=America/New_York:20260915T180000
DTEND;TZID=America/New_York:20260915T190000
DTSTAMP:20260419T140914
CREATED:20260330T142516Z
LAST-MODIFIED:20260331T190955Z
UID:10005538-1789495200-1789498800@www.fawnlake-hoa.com
SUMMARY:Lake Usage Committee Meeting
DESCRIPTION:Meeting located in Board Room.
URL:https://www.fawnlake-hoa.com/event/lake-usage-3/2026-09-15/
LOCATION:Clubhouse Board Room\, 11300 Longstreet Drive\, Spostylvania\, VA\, 22551\, United States
CATEGORIES:FLCA Meetings
ATTACH;FMTTYPE=image/png:https://www.fawnlake-hoa.com/wp-content/uploads/2025/10/PAWS.png
END:VEVENT
BEGIN:VEVENT
DTSTART;TZID=America/New_York:20260921T190000
DTEND;TZID=America/New_York:20260921T200000
DTSTAMP:20260419T140914
CREATED:20260306T191855Z
LAST-MODIFIED:20260327T184238Z
UID:10004135-1790017200-1790020800@www.fawnlake-hoa.com
SUMMARY:ARCC (Architectural Review Board) Meeting
DESCRIPTION:VIA Teams Only \nLink: Teams Link \nPhone Number: 1-323-705-3199 \nMeeting ID: 287 849 651 6749 \nPassword: N89eE3Q3 \n 
URL:https://www.fawnlake-hoa.com/event/arcc-2/2026-09-21/
LOCATION:Virtual
CATEGORIES:FLCA Meetings
END:VEVENT
BEGIN:VEVENT
DTSTART;TZID=America/New_York:20260923T170000
DTEND;TZID=America/New_York:20260923T220000
DTSTAMP:20260419T140914
CREATED:20251016T172854Z
LAST-MODIFIED:20260327T184651Z
UID:10004334-1790182800-1790200800@www.fawnlake-hoa.com
SUMMARY:Board of Directors Meeting
DESCRIPTION:Executive Session: 5:00 pm| Open Session: 6:30pm
URL:https://www.fawnlake-hoa.com/event/board-of-directors-meeting/2026-09-23/
LOCATION:Clubhouse Board Room\, 11300 Longstreet Drive\, Spostylvania\, VA\, 22551\, United States
CATEGORIES:FLCA Meetings
END:VEVENT
END:VCALENDAR