BEGIN:VCALENDAR
VERSION:2.0
PRODID:-//Fawn Lake Community Association - ECPv6.15.20//NONSGML v1.0//EN
CALSCALE:GREGORIAN
METHOD:PUBLISH
X-WR-CALNAME:Fawn Lake Community Association
X-ORIGINAL-URL:https://www.fawnlake-hoa.com
X-WR-CALDESC:Events for Fawn Lake Community Association
REFRESH-INTERVAL;VALUE=DURATION:PT1H
X-Robots-Tag:noindex
X-PUBLISHED-TTL:PT1H
BEGIN:VTIMEZONE
TZID:America/New_York
BEGIN:DAYLIGHT
TZOFFSETFROM:-0500
TZOFFSETTO:-0400
TZNAME:EDT
DTSTART:20260308T070000
END:DAYLIGHT
BEGIN:STANDARD
TZOFFSETFROM:-0400
TZOFFSETTO:-0500
TZNAME:EST
DTSTART:20261101T060000
END:STANDARD
BEGIN:DAYLIGHT
TZOFFSETFROM:-0500
TZOFFSETTO:-0400
TZNAME:EDT
DTSTART:20270314T070000
END:DAYLIGHT
BEGIN:STANDARD
TZOFFSETFROM:-0400
TZOFFSETTO:-0500
TZNAME:EST
DTSTART:20271107T060000
END:STANDARD
BEGIN:DAYLIGHT
TZOFFSETFROM:-0500
TZOFFSETTO:-0400
TZNAME:EDT
DTSTART:20280312T070000
END:DAYLIGHT
BEGIN:STANDARD
TZOFFSETFROM:-0400
TZOFFSETTO:-0500
TZNAME:EST
DTSTART:20281105T060000
END:STANDARD
END:VTIMEZONE
BEGIN:VEVENT
DTSTART;TZID=America/New_York:20270308T190000
DTEND;TZID=America/New_York:20270308T200000
DTSTAMP:20260420T042248
CREATED:20260306T191855Z
LAST-MODIFIED:20260327T184238Z
UID:10004147-1804532400-1804536000@www.fawnlake-hoa.com
SUMMARY:ARCC (Architectural Review Board) Meeting
DESCRIPTION:VIA Teams Only \nLink: Teams Link \nPhone Number: 1-323-705-3199 \nMeeting ID: 287 849 651 6749 \nPassword: N89eE3Q3 \n 
URL:https://www.fawnlake-hoa.com/event/arcc-2/2027-03-08/
LOCATION:Virtual
CATEGORIES:FLCA Meetings
END:VEVENT
BEGIN:VEVENT
DTSTART;TZID=America/New_York:20270309T180000
DTEND;TZID=America/New_York:20270309T190000
DTSTAMP:20260420T042248
CREATED:20260414T125633Z
LAST-MODIFIED:20260414T125634Z
UID:10005908-1804615200-1804618800@www.fawnlake-hoa.com
SUMMARY:Commons Committee Meeting
DESCRIPTION:Meets in the FLCA Board Room.
URL:https://www.fawnlake-hoa.com/event/commons-committee-meeting-2/2027-03-09/
CATEGORIES:FLCA Meetings
END:VEVENT
BEGIN:VEVENT
DTSTART;TZID=America/New_York:20270310T180000
DTEND;TZID=America/New_York:20270310T190000
DTSTAMP:20260420T042248
CREATED:20260331T193530Z
LAST-MODIFIED:20260331T193652Z
UID:10005784-1804701600-1804705200@www.fawnlake-hoa.com
SUMMARY:Social Activities Committee Meeting
DESCRIPTION:In-Person and Via Teams. In-person is held at the FCLA HOA Clubhouse Board Room. \nMicrosoft Teams meeting \n\n\nJoin: https://teams.microsoft.com/meet/26999323624554?p=RwwsI31VyGE7TwbC9b \n\n\nMeeting ID: 269 993 236 245 54 \n\n\nPasscode: M6xk9YW6 \n\n\n\n\nNeed help? | System reference \n\nDial in by phone \n\n\n+1 469-480-6674/Phone Passcode: (529749361#) United States\, Dallas
URL:https://www.fawnlake-hoa.com/event/social-activities-committee-meeting-2/2027-03-10/
CATEGORIES:FLCA Meetings
END:VEVENT
BEGIN:VEVENT
DTSTART;TZID=America/New_York:20270311T180000
DTEND;TZID=America/New_York:20270311T190000
DTSTAMP:20260420T042248
CREATED:20260331T191703Z
LAST-MODIFIED:20260409T134300Z
UID:10005604-1804788000-1804791600@www.fawnlake-hoa.com
SUMMARY:Communications Committee Meeting
DESCRIPTION:Meets at the FLCA Clubhouse.
URL:https://www.fawnlake-hoa.com/event/communications-committee-meeting/2027-03-11/
CATEGORIES:FLCA Meetings
END:VEVENT
BEGIN:VEVENT
DTSTART;TZID=America/New_York:20270316T180000
DTEND;TZID=America/New_York:20270316T190000
DTSTAMP:20260420T042248
CREATED:20260330T142516Z
LAST-MODIFIED:20260331T190955Z
UID:10005544-1805220000-1805223600@www.fawnlake-hoa.com
SUMMARY:Lake Usage Committee Meeting
DESCRIPTION:Meeting located in Board Room.
URL:https://www.fawnlake-hoa.com/event/lake-usage-3/2027-03-16/
LOCATION:Clubhouse Board Room\, 11300 Longstreet Drive\, Spostylvania\, VA\, 22551\, United States
CATEGORIES:FLCA Meetings
ATTACH;FMTTYPE=image/png:https://www.fawnlake-hoa.com/wp-content/uploads/2025/10/PAWS.png
END:VEVENT
BEGIN:VEVENT
DTSTART;TZID=America/New_York:20270322T190000
DTEND;TZID=America/New_York:20270322T200000
DTSTAMP:20260420T042248
CREATED:20260306T191855Z
LAST-MODIFIED:20260327T184238Z
UID:10004148-1805742000-1805745600@www.fawnlake-hoa.com
SUMMARY:ARCC (Architectural Review Board) Meeting
DESCRIPTION:VIA Teams Only \nLink: Teams Link \nPhone Number: 1-323-705-3199 \nMeeting ID: 287 849 651 6749 \nPassword: N89eE3Q3 \n 
URL:https://www.fawnlake-hoa.com/event/arcc-2/2027-03-22/
LOCATION:Virtual
CATEGORIES:FLCA Meetings
END:VEVENT
BEGIN:VEVENT
DTSTART;TZID=America/New_York:20270324T170000
DTEND;TZID=America/New_York:20270324T220000
DTSTAMP:20260420T042248
CREATED:20251016T172854Z
LAST-MODIFIED:20260327T184651Z
UID:10004340-1805907600-1805925600@www.fawnlake-hoa.com
SUMMARY:Board of Directors Meeting
DESCRIPTION:Executive Session: 5:00 pm| Open Session: 6:30pm
URL:https://www.fawnlake-hoa.com/event/board-of-directors-meeting/2027-03-24/
LOCATION:Clubhouse Board Room\, 11300 Longstreet Drive\, Spostylvania\, VA\, 22551\, United States
CATEGORIES:FLCA Meetings
END:VEVENT
BEGIN:VEVENT
DTSTART;TZID=America/New_York:20270325T190000
DTEND;TZID=America/New_York:20270325T200000
DTSTAMP:20260420T042248
CREATED:20260331T194010Z
LAST-MODIFIED:20260331T194154Z
UID:10005844-1806001200-1806004800@www.fawnlake-hoa.com
SUMMARY:Safety Committee Meeting
DESCRIPTION:Meets in the FLCA Clubhouse.
URL:https://www.fawnlake-hoa.com/event/safety-committee-meeting/2027-03-25/
CATEGORIES:FLCA Meetings
END:VEVENT
BEGIN:VEVENT
DTSTART;TZID=America/New_York:20270405T150000
DTEND;TZID=America/New_York:20270405T163000
DTSTAMP:20260420T042248
CREATED:20251016T170323Z
LAST-MODIFIED:20260330T152341Z
UID:10005279-1806937200-1806942600@www.fawnlake-hoa.com
SUMMARY:Lake Environment Committee Meeting
DESCRIPTION:
URL:https://www.fawnlake-hoa.com/event/communications-committee/2027-04-05/
LOCATION:Clubhouse Board Room\, 11300 Longstreet Drive\, Spostylvania\, VA\, 22551\, United States
CATEGORIES:FLCA Meetings
END:VEVENT
BEGIN:VEVENT
DTSTART;TZID=America/New_York:20270405T190000
DTEND;TZID=America/New_York:20270405T200000
DTSTAMP:20260420T042248
CREATED:20260306T191855Z
LAST-MODIFIED:20260327T184238Z
UID:10004149-1806951600-1806955200@www.fawnlake-hoa.com
SUMMARY:ARCC (Architectural Review Board) Meeting
DESCRIPTION:VIA Teams Only \nLink: Teams Link \nPhone Number: 1-323-705-3199 \nMeeting ID: 287 849 651 6749 \nPassword: N89eE3Q3 \n 
URL:https://www.fawnlake-hoa.com/event/arcc-2/2027-04-05/
LOCATION:Virtual
CATEGORIES:FLCA Meetings
END:VEVENT
BEGIN:VEVENT
DTSTART;TZID=America/New_York:20270406T160000
DTEND;TZID=America/New_York:20270406T180000
DTSTAMP:20260420T042248
CREATED:20260413T153419Z
LAST-MODIFIED:20260413T153419Z
UID:10005665-1807027200-1807034400@www.fawnlake-hoa.com
SUMMARY:Finance Committee Meeting
DESCRIPTION:Meets in the FLCA Board Room.
URL:https://www.fawnlake-hoa.com/event/finance-committee-meeting-2/2027-04-06/
LOCATION:FLCA Clubhouse
CATEGORIES:FLCA Meetings
END:VEVENT
BEGIN:VEVENT
DTSTART;TZID=America/New_York:20270408T180000
DTEND;TZID=America/New_York:20270408T190000
DTSTAMP:20260420T042248
CREATED:20260331T191703Z
LAST-MODIFIED:20260409T134300Z
UID:10005605-1807207200-1807210800@www.fawnlake-hoa.com
SUMMARY:Communications Committee Meeting
DESCRIPTION:Meets at the FLCA Clubhouse.
URL:https://www.fawnlake-hoa.com/event/communications-committee-meeting/2027-04-08/
CATEGORIES:FLCA Meetings
END:VEVENT
BEGIN:VEVENT
DTSTART;TZID=America/New_York:20270413T180000
DTEND;TZID=America/New_York:20270413T190000
DTSTAMP:20260420T042248
CREATED:20260414T125633Z
LAST-MODIFIED:20260414T125634Z
UID:10005909-1807639200-1807642800@www.fawnlake-hoa.com
SUMMARY:Commons Committee Meeting
DESCRIPTION:Meets in the FLCA Board Room.
URL:https://www.fawnlake-hoa.com/event/commons-committee-meeting-2/2027-04-13/
CATEGORIES:FLCA Meetings
END:VEVENT
BEGIN:VEVENT
DTSTART;TZID=America/New_York:20270414T180000
DTEND;TZID=America/New_York:20270414T190000
DTSTAMP:20260420T042248
CREATED:20260331T193530Z
LAST-MODIFIED:20260331T193652Z
UID:10005785-1807725600-1807729200@www.fawnlake-hoa.com
SUMMARY:Social Activities Committee Meeting
DESCRIPTION:In-Person and Via Teams. In-person is held at the FCLA HOA Clubhouse Board Room. \nMicrosoft Teams meeting \n\n\nJoin: https://teams.microsoft.com/meet/26999323624554?p=RwwsI31VyGE7TwbC9b \n\n\nMeeting ID: 269 993 236 245 54 \n\n\nPasscode: M6xk9YW6 \n\n\n\n\nNeed help? | System reference \n\nDial in by phone \n\n\n+1 469-480-6674/Phone Passcode: (529749361#) United States\, Dallas
URL:https://www.fawnlake-hoa.com/event/social-activities-committee-meeting-2/2027-04-14/
CATEGORIES:FLCA Meetings
END:VEVENT
BEGIN:VEVENT
DTSTART;TZID=America/New_York:20270419T190000
DTEND;TZID=America/New_York:20270419T200000
DTSTAMP:20260420T042248
CREATED:20260306T191855Z
LAST-MODIFIED:20260327T184238Z
UID:10004150-1808161200-1808164800@www.fawnlake-hoa.com
SUMMARY:ARCC (Architectural Review Board) Meeting
DESCRIPTION:VIA Teams Only \nLink: Teams Link \nPhone Number: 1-323-705-3199 \nMeeting ID: 287 849 651 6749 \nPassword: N89eE3Q3 \n 
URL:https://www.fawnlake-hoa.com/event/arcc-2/2027-04-19/
LOCATION:Virtual
CATEGORIES:FLCA Meetings
END:VEVENT
BEGIN:VEVENT
DTSTART;TZID=America/New_York:20270420T180000
DTEND;TZID=America/New_York:20270420T190000
DTSTAMP:20260420T042248
CREATED:20260330T142516Z
LAST-MODIFIED:20260331T190955Z
UID:10005545-1808244000-1808247600@www.fawnlake-hoa.com
SUMMARY:Lake Usage Committee Meeting
DESCRIPTION:Meeting located in Board Room.
URL:https://www.fawnlake-hoa.com/event/lake-usage-3/2027-04-20/
LOCATION:Clubhouse Board Room\, 11300 Longstreet Drive\, Spostylvania\, VA\, 22551\, United States
CATEGORIES:FLCA Meetings
ATTACH;FMTTYPE=image/png:https://www.fawnlake-hoa.com/wp-content/uploads/2025/10/PAWS.png
END:VEVENT
BEGIN:VEVENT
DTSTART;TZID=America/New_York:20270422T190000
DTEND;TZID=America/New_York:20270422T200000
DTSTAMP:20260420T042248
CREATED:20260331T194010Z
LAST-MODIFIED:20260331T194154Z
UID:10005845-1808420400-1808424000@www.fawnlake-hoa.com
SUMMARY:Safety Committee Meeting
DESCRIPTION:Meets in the FLCA Clubhouse.
URL:https://www.fawnlake-hoa.com/event/safety-committee-meeting/2027-04-22/
CATEGORIES:FLCA Meetings
END:VEVENT
BEGIN:VEVENT
DTSTART;TZID=America/New_York:20270428T170000
DTEND;TZID=America/New_York:20270428T220000
DTSTAMP:20260420T042248
CREATED:20251016T172854Z
LAST-MODIFIED:20260327T184651Z
UID:10004341-1808931600-1808949600@www.fawnlake-hoa.com
SUMMARY:Board of Directors Meeting
DESCRIPTION:Executive Session: 5:00 pm| Open Session: 6:30pm
URL:https://www.fawnlake-hoa.com/event/board-of-directors-meeting/2027-04-28/
LOCATION:Clubhouse Board Room\, 11300 Longstreet Drive\, Spostylvania\, VA\, 22551\, United States
CATEGORIES:FLCA Meetings
END:VEVENT
BEGIN:VEVENT
DTSTART;TZID=America/New_York:20270503T150000
DTEND;TZID=America/New_York:20270503T163000
DTSTAMP:20260420T042248
CREATED:20251016T170323Z
LAST-MODIFIED:20260330T152341Z
UID:10005280-1809356400-1809361800@www.fawnlake-hoa.com
SUMMARY:Lake Environment Committee Meeting
DESCRIPTION:
URL:https://www.fawnlake-hoa.com/event/communications-committee/2027-05-03/
LOCATION:Clubhouse Board Room\, 11300 Longstreet Drive\, Spostylvania\, VA\, 22551\, United States
CATEGORIES:FLCA Meetings
END:VEVENT
BEGIN:VEVENT
DTSTART;TZID=America/New_York:20270503T190000
DTEND;TZID=America/New_York:20270503T200000
DTSTAMP:20260420T042248
CREATED:20260306T191855Z
LAST-MODIFIED:20260327T184238Z
UID:10004151-1809370800-1809374400@www.fawnlake-hoa.com
SUMMARY:ARCC (Architectural Review Board) Meeting
DESCRIPTION:VIA Teams Only \nLink: Teams Link \nPhone Number: 1-323-705-3199 \nMeeting ID: 287 849 651 6749 \nPassword: N89eE3Q3 \n 
URL:https://www.fawnlake-hoa.com/event/arcc-2/2027-05-03/
LOCATION:Virtual
CATEGORIES:FLCA Meetings
END:VEVENT
BEGIN:VEVENT
DTSTART;TZID=America/New_York:20270504T160000
DTEND;TZID=America/New_York:20270504T180000
DTSTAMP:20260420T042248
CREATED:20260413T153419Z
LAST-MODIFIED:20260413T153419Z
UID:10005666-1809446400-1809453600@www.fawnlake-hoa.com
SUMMARY:Finance Committee Meeting
DESCRIPTION:Meets in the FLCA Board Room.
URL:https://www.fawnlake-hoa.com/event/finance-committee-meeting-2/2027-05-04/
LOCATION:FLCA Clubhouse
CATEGORIES:FLCA Meetings
END:VEVENT
BEGIN:VEVENT
DTSTART;TZID=America/New_York:20270511T180000
DTEND;TZID=America/New_York:20270511T190000
DTSTAMP:20260420T042248
CREATED:20260414T125633Z
LAST-MODIFIED:20260414T125634Z
UID:10005910-1810058400-1810062000@www.fawnlake-hoa.com
SUMMARY:Commons Committee Meeting
DESCRIPTION:Meets in the FLCA Board Room.
URL:https://www.fawnlake-hoa.com/event/commons-committee-meeting-2/2027-05-11/
CATEGORIES:FLCA Meetings
END:VEVENT
BEGIN:VEVENT
DTSTART;TZID=America/New_York:20270512T180000
DTEND;TZID=America/New_York:20270512T190000
DTSTAMP:20260420T042248
CREATED:20260331T193530Z
LAST-MODIFIED:20260331T193652Z
UID:10005786-1810144800-1810148400@www.fawnlake-hoa.com
SUMMARY:Social Activities Committee Meeting
DESCRIPTION:In-Person and Via Teams. In-person is held at the FCLA HOA Clubhouse Board Room. \nMicrosoft Teams meeting \n\n\nJoin: https://teams.microsoft.com/meet/26999323624554?p=RwwsI31VyGE7TwbC9b \n\n\nMeeting ID: 269 993 236 245 54 \n\n\nPasscode: M6xk9YW6 \n\n\n\n\nNeed help? | System reference \n\nDial in by phone \n\n\n+1 469-480-6674/Phone Passcode: (529749361#) United States\, Dallas
URL:https://www.fawnlake-hoa.com/event/social-activities-committee-meeting-2/2027-05-12/
CATEGORIES:FLCA Meetings
END:VEVENT
BEGIN:VEVENT
DTSTART;TZID=America/New_York:20270513T180000
DTEND;TZID=America/New_York:20270513T190000
DTSTAMP:20260420T042248
CREATED:20260331T191703Z
LAST-MODIFIED:20260409T134300Z
UID:10005606-1810231200-1810234800@www.fawnlake-hoa.com
SUMMARY:Communications Committee Meeting
DESCRIPTION:Meets at the FLCA Clubhouse.
URL:https://www.fawnlake-hoa.com/event/communications-committee-meeting/2027-05-13/
CATEGORIES:FLCA Meetings
END:VEVENT
BEGIN:VEVENT
DTSTART;TZID=America/New_York:20270517T190000
DTEND;TZID=America/New_York:20270517T200000
DTSTAMP:20260420T042248
CREATED:20260306T191855Z
LAST-MODIFIED:20260327T184238Z
UID:10004152-1810580400-1810584000@www.fawnlake-hoa.com
SUMMARY:ARCC (Architectural Review Board) Meeting
DESCRIPTION:VIA Teams Only \nLink: Teams Link \nPhone Number: 1-323-705-3199 \nMeeting ID: 287 849 651 6749 \nPassword: N89eE3Q3 \n 
URL:https://www.fawnlake-hoa.com/event/arcc-2/2027-05-17/
LOCATION:Virtual
CATEGORIES:FLCA Meetings
END:VEVENT
BEGIN:VEVENT
DTSTART;TZID=America/New_York:20270518T180000
DTEND;TZID=America/New_York:20270518T190000
DTSTAMP:20260420T042248
CREATED:20260330T142516Z
LAST-MODIFIED:20260331T190955Z
UID:10005546-1810663200-1810666800@www.fawnlake-hoa.com
SUMMARY:Lake Usage Committee Meeting
DESCRIPTION:Meeting located in Board Room.
URL:https://www.fawnlake-hoa.com/event/lake-usage-3/2027-05-18/
LOCATION:Clubhouse Board Room\, 11300 Longstreet Drive\, Spostylvania\, VA\, 22551\, United States
CATEGORIES:FLCA Meetings
ATTACH;FMTTYPE=image/png:https://www.fawnlake-hoa.com/wp-content/uploads/2025/10/PAWS.png
END:VEVENT
BEGIN:VEVENT
DTSTART;TZID=America/New_York:20270526T170000
DTEND;TZID=America/New_York:20270526T220000
DTSTAMP:20260420T042248
CREATED:20251016T172854Z
LAST-MODIFIED:20260327T184651Z
UID:10004342-1811350800-1811368800@www.fawnlake-hoa.com
SUMMARY:Board of Directors Meeting
DESCRIPTION:Executive Session: 5:00 pm| Open Session: 6:30pm
URL:https://www.fawnlake-hoa.com/event/board-of-directors-meeting/2027-05-26/
LOCATION:Clubhouse Board Room\, 11300 Longstreet Drive\, Spostylvania\, VA\, 22551\, United States
CATEGORIES:FLCA Meetings
END:VEVENT
BEGIN:VEVENT
DTSTART;TZID=America/New_York:20270527T190000
DTEND;TZID=America/New_York:20270527T200000
DTSTAMP:20260420T042248
CREATED:20260331T194010Z
LAST-MODIFIED:20260331T194154Z
UID:10005846-1811444400-1811448000@www.fawnlake-hoa.com
SUMMARY:Safety Committee Meeting
DESCRIPTION:Meets in the FLCA Clubhouse.
URL:https://www.fawnlake-hoa.com/event/safety-committee-meeting/2027-05-27/
CATEGORIES:FLCA Meetings
END:VEVENT
BEGIN:VEVENT
DTSTART;TZID=America/New_York:20270531T190000
DTEND;TZID=America/New_York:20270531T200000
DTSTAMP:20260420T042248
CREATED:20260306T191855Z
LAST-MODIFIED:20260327T184238Z
UID:10004153-1811790000-1811793600@www.fawnlake-hoa.com
SUMMARY:ARCC (Architectural Review Board) Meeting
DESCRIPTION:VIA Teams Only \nLink: Teams Link \nPhone Number: 1-323-705-3199 \nMeeting ID: 287 849 651 6749 \nPassword: N89eE3Q3 \n 
URL:https://www.fawnlake-hoa.com/event/arcc-2/2027-05-31/
LOCATION:Virtual
CATEGORIES:FLCA Meetings
END:VEVENT
BEGIN:VEVENT
DTSTART;TZID=America/New_York:20270601T160000
DTEND;TZID=America/New_York:20270601T180000
DTSTAMP:20260420T042248
CREATED:20260413T153419Z
LAST-MODIFIED:20260413T153419Z
UID:10005667-1811865600-1811872800@www.fawnlake-hoa.com
SUMMARY:Finance Committee Meeting
DESCRIPTION:Meets in the FLCA Board Room.
URL:https://www.fawnlake-hoa.com/event/finance-committee-meeting-2/2027-06-01/
LOCATION:FLCA Clubhouse
CATEGORIES:FLCA Meetings
END:VEVENT
END:VCALENDAR