BEGIN:VCALENDAR
VERSION:2.0
PRODID:-//Fawn Lake Community Association - ECPv6.15.20//NONSGML v1.0//EN
CALSCALE:GREGORIAN
METHOD:PUBLISH
X-WR-CALNAME:Fawn Lake Community Association
X-ORIGINAL-URL:https://www.fawnlake-hoa.com
X-WR-CALDESC:Events for Fawn Lake Community Association
REFRESH-INTERVAL;VALUE=DURATION:PT1H
X-Robots-Tag:noindex
X-PUBLISHED-TTL:PT1H
BEGIN:VTIMEZONE
TZID:America/New_York
BEGIN:DAYLIGHT
TZOFFSETFROM:-0500
TZOFFSETTO:-0400
TZNAME:EDT
DTSTART:20250309T070000
END:DAYLIGHT
BEGIN:STANDARD
TZOFFSETFROM:-0400
TZOFFSETTO:-0500
TZNAME:EST
DTSTART:20251102T060000
END:STANDARD
BEGIN:DAYLIGHT
TZOFFSETFROM:-0500
TZOFFSETTO:-0400
TZNAME:EDT
DTSTART:20260308T070000
END:DAYLIGHT
BEGIN:STANDARD
TZOFFSETFROM:-0400
TZOFFSETTO:-0500
TZNAME:EST
DTSTART:20261101T060000
END:STANDARD
BEGIN:DAYLIGHT
TZOFFSETFROM:-0500
TZOFFSETTO:-0400
TZNAME:EDT
DTSTART:20270314T070000
END:DAYLIGHT
BEGIN:STANDARD
TZOFFSETFROM:-0400
TZOFFSETTO:-0500
TZNAME:EST
DTSTART:20271107T060000
END:STANDARD
END:VTIMEZONE
BEGIN:VEVENT
DTSTART;TZID=America/New_York:20260420T190000
DTEND;TZID=America/New_York:20260420T200000
DTSTAMP:20260420T034706
CREATED:20260306T191855Z
LAST-MODIFIED:20260327T184238Z
UID:10004124-1776711600-1776715200@www.fawnlake-hoa.com
SUMMARY:ARCC (Architectural Review Board) Meeting
DESCRIPTION:VIA Teams Only \nLink: Teams Link \nPhone Number: 1-323-705-3199 \nMeeting ID: 287 849 651 6749 \nPassword: N89eE3Q3 \n 
URL:https://www.fawnlake-hoa.com/event/arcc-2/2026-04-20/
LOCATION:Virtual
CATEGORIES:FLCA Meetings
END:VEVENT
BEGIN:VEVENT
DTSTART;TZID=America/New_York:20260420T190000
DTEND;TZID=America/New_York:20260420T210000
DTSTAMP:20260420T034706
CREATED:20251225T013403Z
LAST-MODIFIED:20260331T194519Z
UID:10004640-1776711600-1776718800@www.fawnlake-hoa.com
SUMMARY:Line Dancing Club in Clubhouse
DESCRIPTION:Line Dancing for fitness and fellowship. Sessions to be held on the 3rd Monday of the month in the main lobby of the FLCA Clubhouse.
URL:https://www.fawnlake-hoa.com/event/line-dancing-club-in-clubhouse/2026-04-20/
LOCATION:FLCA Clubhouse
CATEGORIES:Clubs & Organizations
END:VEVENT
END:VCALENDAR